BEGIN:VCALENDAR
VERSION:2.0
PRODID:-//Kiezanker 36 - ECPv6.15.20//NONSGML v1.0//EN
CALSCALE:GREGORIAN
METHOD:PUBLISH
X-ORIGINAL-URL:https://familienzentrum-wrangelkiez.de
X-WR-CALDESC:Veranstaltungen für Kiezanker 36
REFRESH-INTERVAL;VALUE=DURATION:PT1H
X-Robots-Tag:noindex
X-PUBLISHED-TTL:PT1H
BEGIN:VTIMEZONE
TZID:Europe/Berlin
BEGIN:DAYLIGHT
TZOFFSETFROM:+0100
TZOFFSETTO:+0200
TZNAME:CEST
DTSTART:20290325T010000
END:DAYLIGHT
BEGIN:STANDARD
TZOFFSETFROM:+0200
TZOFFSETTO:+0100
TZNAME:CET
DTSTART:20291028T010000
END:STANDARD
BEGIN:DAYLIGHT
TZOFFSETFROM:+0100
TZOFFSETTO:+0200
TZNAME:CEST
DTSTART:20300331T010000
END:DAYLIGHT
BEGIN:STANDARD
TZOFFSETFROM:+0200
TZOFFSETTO:+0100
TZNAME:CET
DTSTART:20301027T010000
END:STANDARD
BEGIN:DAYLIGHT
TZOFFSETFROM:+0100
TZOFFSETTO:+0200
TZNAME:CEST
DTSTART:20310330T010000
END:DAYLIGHT
BEGIN:STANDARD
TZOFFSETFROM:+0200
TZOFFSETTO:+0100
TZNAME:CET
DTSTART:20311026T010000
END:STANDARD
BEGIN:DAYLIGHT
TZOFFSETFROM:+0100
TZOFFSETTO:+0200
TZNAME:CEST
DTSTART:20320328T010000
END:DAYLIGHT
BEGIN:STANDARD
TZOFFSETFROM:+0200
TZOFFSETTO:+0100
TZNAME:CET
DTSTART:20321031T010000
END:STANDARD
END:VTIMEZONE
BEGIN:VEVENT
DTSTART;TZID=Europe/Berlin:20301220T150000
DTEND;TZID=Europe/Berlin:20301220T200000
DTSTAMP:20260421T221302
CREATED:20260311T152806Z
LAST-MODIFIED:20260311T152830Z
UID:10053703-1924009200-1924027200@familienzentrum-wrangelkiez.de
SUMMARY:offener Siebdruckposter-Nachmittag
DESCRIPTION:offener Siebdruckposter-Nachmittag \nDu willst Siebdruck als Kreativtechnik kennenlernen?\nOder hast eine besondere Botschaft\, die du vervielfältigen willst?\nDann schau vorbei beim: \nSiebdruckposter- Workshop \nLass uns deine Ideen ausfeilen und gemeinsam in die Wirklichkeit umsetzen.\nBei dem Workshop entwickeln wir gemeinsam Postermotive\, die wir dann mithilfe vom Siebdruck replizieren. Von der Skizze\, übers Layout bis zum fertigen Druck. \nJe nach Gruppendynamik entstehen individuelle oder kollektive Ergebnisse\, die wir auf Papier / Karton / Postkarten und alles Andere drucken. Der Workshop findet analog statt\, ihr könnt also allerlei Ideen / Grafiken / Skizzen oder Werkzeug mitnehmen\, was innerhalb der Workshops zu etwas neuen gemixt werden kann.\nVorrangig wird auf Papier gedruckt\, in Absprache sind aber auch Textildruck oder andere Experimente möglich. \nAlle sind willkommen. Vorerfahrungen braucht es nicht.\nEuer Kollektiv oder eure Initiative will gerne ein etwas größeres konkretes Siebdruckprojekt gemeinsam planen / drucken?\nKommt zum Workshop und wir planen gemeinsam die Umsetzung. \nJeden Freitag ab 15:00 Uhr\, Görli II \nAnsprechpartner: Paul
URL:https://familienzentrum-wrangelkiez.de/veranstaltung/offener-siebdruckposter-nachmittag/2030-12-20/
ATTACH;FMTTYPE=image/png:https://familienzentrum-wrangelkiez.de/wp-content/uploads/2026/03/SharepicPosterWorkshop___.png
END:VEVENT
BEGIN:VEVENT
DTSTART;TZID=Europe/Berlin:20301227T150000
DTEND;TZID=Europe/Berlin:20301227T200000
DTSTAMP:20260421T221302
CREATED:20260311T152806Z
LAST-MODIFIED:20260311T152830Z
UID:10053704-1924614000-1924632000@familienzentrum-wrangelkiez.de
SUMMARY:offener Siebdruckposter-Nachmittag
DESCRIPTION:offener Siebdruckposter-Nachmittag \nDu willst Siebdruck als Kreativtechnik kennenlernen?\nOder hast eine besondere Botschaft\, die du vervielfältigen willst?\nDann schau vorbei beim: \nSiebdruckposter- Workshop \nLass uns deine Ideen ausfeilen und gemeinsam in die Wirklichkeit umsetzen.\nBei dem Workshop entwickeln wir gemeinsam Postermotive\, die wir dann mithilfe vom Siebdruck replizieren. Von der Skizze\, übers Layout bis zum fertigen Druck. \nJe nach Gruppendynamik entstehen individuelle oder kollektive Ergebnisse\, die wir auf Papier / Karton / Postkarten und alles Andere drucken. Der Workshop findet analog statt\, ihr könnt also allerlei Ideen / Grafiken / Skizzen oder Werkzeug mitnehmen\, was innerhalb der Workshops zu etwas neuen gemixt werden kann.\nVorrangig wird auf Papier gedruckt\, in Absprache sind aber auch Textildruck oder andere Experimente möglich. \nAlle sind willkommen. Vorerfahrungen braucht es nicht.\nEuer Kollektiv oder eure Initiative will gerne ein etwas größeres konkretes Siebdruckprojekt gemeinsam planen / drucken?\nKommt zum Workshop und wir planen gemeinsam die Umsetzung. \nJeden Freitag ab 15:00 Uhr\, Görli II \nAnsprechpartner: Paul
URL:https://familienzentrum-wrangelkiez.de/veranstaltung/offener-siebdruckposter-nachmittag/2030-12-27/
ATTACH;FMTTYPE=image/png:https://familienzentrum-wrangelkiez.de/wp-content/uploads/2026/03/SharepicPosterWorkshop___.png
END:VEVENT
BEGIN:VEVENT
DTSTART;TZID=Europe/Berlin:20310103T150000
DTEND;TZID=Europe/Berlin:20310103T200000
DTSTAMP:20260421T221302
CREATED:20260311T152806Z
LAST-MODIFIED:20260311T152830Z
UID:10053705-1925218800-1925236800@familienzentrum-wrangelkiez.de
SUMMARY:offener Siebdruckposter-Nachmittag
DESCRIPTION:offener Siebdruckposter-Nachmittag \nDu willst Siebdruck als Kreativtechnik kennenlernen?\nOder hast eine besondere Botschaft\, die du vervielfältigen willst?\nDann schau vorbei beim: \nSiebdruckposter- Workshop \nLass uns deine Ideen ausfeilen und gemeinsam in die Wirklichkeit umsetzen.\nBei dem Workshop entwickeln wir gemeinsam Postermotive\, die wir dann mithilfe vom Siebdruck replizieren. Von der Skizze\, übers Layout bis zum fertigen Druck. \nJe nach Gruppendynamik entstehen individuelle oder kollektive Ergebnisse\, die wir auf Papier / Karton / Postkarten und alles Andere drucken. Der Workshop findet analog statt\, ihr könnt also allerlei Ideen / Grafiken / Skizzen oder Werkzeug mitnehmen\, was innerhalb der Workshops zu etwas neuen gemixt werden kann.\nVorrangig wird auf Papier gedruckt\, in Absprache sind aber auch Textildruck oder andere Experimente möglich. \nAlle sind willkommen. Vorerfahrungen braucht es nicht.\nEuer Kollektiv oder eure Initiative will gerne ein etwas größeres konkretes Siebdruckprojekt gemeinsam planen / drucken?\nKommt zum Workshop und wir planen gemeinsam die Umsetzung. \nJeden Freitag ab 15:00 Uhr\, Görli II \nAnsprechpartner: Paul
URL:https://familienzentrum-wrangelkiez.de/veranstaltung/offener-siebdruckposter-nachmittag/2031-01-03/
ATTACH;FMTTYPE=image/png:https://familienzentrum-wrangelkiez.de/wp-content/uploads/2026/03/SharepicPosterWorkshop___.png
END:VEVENT
BEGIN:VEVENT
DTSTART;TZID=Europe/Berlin:20310110T150000
DTEND;TZID=Europe/Berlin:20310110T200000
DTSTAMP:20260421T221302
CREATED:20260311T152806Z
LAST-MODIFIED:20260311T152830Z
UID:10053706-1925823600-1925841600@familienzentrum-wrangelkiez.de
SUMMARY:offener Siebdruckposter-Nachmittag
DESCRIPTION:offener Siebdruckposter-Nachmittag \nDu willst Siebdruck als Kreativtechnik kennenlernen?\nOder hast eine besondere Botschaft\, die du vervielfältigen willst?\nDann schau vorbei beim: \nSiebdruckposter- Workshop \nLass uns deine Ideen ausfeilen und gemeinsam in die Wirklichkeit umsetzen.\nBei dem Workshop entwickeln wir gemeinsam Postermotive\, die wir dann mithilfe vom Siebdruck replizieren. Von der Skizze\, übers Layout bis zum fertigen Druck. \nJe nach Gruppendynamik entstehen individuelle oder kollektive Ergebnisse\, die wir auf Papier / Karton / Postkarten und alles Andere drucken. Der Workshop findet analog statt\, ihr könnt also allerlei Ideen / Grafiken / Skizzen oder Werkzeug mitnehmen\, was innerhalb der Workshops zu etwas neuen gemixt werden kann.\nVorrangig wird auf Papier gedruckt\, in Absprache sind aber auch Textildruck oder andere Experimente möglich. \nAlle sind willkommen. Vorerfahrungen braucht es nicht.\nEuer Kollektiv oder eure Initiative will gerne ein etwas größeres konkretes Siebdruckprojekt gemeinsam planen / drucken?\nKommt zum Workshop und wir planen gemeinsam die Umsetzung. \nJeden Freitag ab 15:00 Uhr\, Görli II \nAnsprechpartner: Paul
URL:https://familienzentrum-wrangelkiez.de/veranstaltung/offener-siebdruckposter-nachmittag/2031-01-10/
ATTACH;FMTTYPE=image/png:https://familienzentrum-wrangelkiez.de/wp-content/uploads/2026/03/SharepicPosterWorkshop___.png
END:VEVENT
BEGIN:VEVENT
DTSTART;TZID=Europe/Berlin:20310117T150000
DTEND;TZID=Europe/Berlin:20310117T200000
DTSTAMP:20260421T221302
CREATED:20260311T152806Z
LAST-MODIFIED:20260311T152830Z
UID:10053707-1926428400-1926446400@familienzentrum-wrangelkiez.de
SUMMARY:offener Siebdruckposter-Nachmittag
DESCRIPTION:offener Siebdruckposter-Nachmittag \nDu willst Siebdruck als Kreativtechnik kennenlernen?\nOder hast eine besondere Botschaft\, die du vervielfältigen willst?\nDann schau vorbei beim: \nSiebdruckposter- Workshop \nLass uns deine Ideen ausfeilen und gemeinsam in die Wirklichkeit umsetzen.\nBei dem Workshop entwickeln wir gemeinsam Postermotive\, die wir dann mithilfe vom Siebdruck replizieren. Von der Skizze\, übers Layout bis zum fertigen Druck. \nJe nach Gruppendynamik entstehen individuelle oder kollektive Ergebnisse\, die wir auf Papier / Karton / Postkarten und alles Andere drucken. Der Workshop findet analog statt\, ihr könnt also allerlei Ideen / Grafiken / Skizzen oder Werkzeug mitnehmen\, was innerhalb der Workshops zu etwas neuen gemixt werden kann.\nVorrangig wird auf Papier gedruckt\, in Absprache sind aber auch Textildruck oder andere Experimente möglich. \nAlle sind willkommen. Vorerfahrungen braucht es nicht.\nEuer Kollektiv oder eure Initiative will gerne ein etwas größeres konkretes Siebdruckprojekt gemeinsam planen / drucken?\nKommt zum Workshop und wir planen gemeinsam die Umsetzung. \nJeden Freitag ab 15:00 Uhr\, Görli II \nAnsprechpartner: Paul
URL:https://familienzentrum-wrangelkiez.de/veranstaltung/offener-siebdruckposter-nachmittag/2031-01-17/
ATTACH;FMTTYPE=image/png:https://familienzentrum-wrangelkiez.de/wp-content/uploads/2026/03/SharepicPosterWorkshop___.png
END:VEVENT
BEGIN:VEVENT
DTSTART;TZID=Europe/Berlin:20310124T150000
DTEND;TZID=Europe/Berlin:20310124T200000
DTSTAMP:20260421T221302
CREATED:20260311T152806Z
LAST-MODIFIED:20260311T152830Z
UID:10053708-1927033200-1927051200@familienzentrum-wrangelkiez.de
SUMMARY:offener Siebdruckposter-Nachmittag
DESCRIPTION:offener Siebdruckposter-Nachmittag \nDu willst Siebdruck als Kreativtechnik kennenlernen?\nOder hast eine besondere Botschaft\, die du vervielfältigen willst?\nDann schau vorbei beim: \nSiebdruckposter- Workshop \nLass uns deine Ideen ausfeilen und gemeinsam in die Wirklichkeit umsetzen.\nBei dem Workshop entwickeln wir gemeinsam Postermotive\, die wir dann mithilfe vom Siebdruck replizieren. Von der Skizze\, übers Layout bis zum fertigen Druck. \nJe nach Gruppendynamik entstehen individuelle oder kollektive Ergebnisse\, die wir auf Papier / Karton / Postkarten und alles Andere drucken. Der Workshop findet analog statt\, ihr könnt also allerlei Ideen / Grafiken / Skizzen oder Werkzeug mitnehmen\, was innerhalb der Workshops zu etwas neuen gemixt werden kann.\nVorrangig wird auf Papier gedruckt\, in Absprache sind aber auch Textildruck oder andere Experimente möglich. \nAlle sind willkommen. Vorerfahrungen braucht es nicht.\nEuer Kollektiv oder eure Initiative will gerne ein etwas größeres konkretes Siebdruckprojekt gemeinsam planen / drucken?\nKommt zum Workshop und wir planen gemeinsam die Umsetzung. \nJeden Freitag ab 15:00 Uhr\, Görli II \nAnsprechpartner: Paul
URL:https://familienzentrum-wrangelkiez.de/veranstaltung/offener-siebdruckposter-nachmittag/2031-01-24/
ATTACH;FMTTYPE=image/png:https://familienzentrum-wrangelkiez.de/wp-content/uploads/2026/03/SharepicPosterWorkshop___.png
END:VEVENT
BEGIN:VEVENT
DTSTART;TZID=Europe/Berlin:20310131T150000
DTEND;TZID=Europe/Berlin:20310131T200000
DTSTAMP:20260421T221302
CREATED:20260311T152806Z
LAST-MODIFIED:20260311T152830Z
UID:10053709-1927638000-1927656000@familienzentrum-wrangelkiez.de
SUMMARY:offener Siebdruckposter-Nachmittag
DESCRIPTION:offener Siebdruckposter-Nachmittag \nDu willst Siebdruck als Kreativtechnik kennenlernen?\nOder hast eine besondere Botschaft\, die du vervielfältigen willst?\nDann schau vorbei beim: \nSiebdruckposter- Workshop \nLass uns deine Ideen ausfeilen und gemeinsam in die Wirklichkeit umsetzen.\nBei dem Workshop entwickeln wir gemeinsam Postermotive\, die wir dann mithilfe vom Siebdruck replizieren. Von der Skizze\, übers Layout bis zum fertigen Druck. \nJe nach Gruppendynamik entstehen individuelle oder kollektive Ergebnisse\, die wir auf Papier / Karton / Postkarten und alles Andere drucken. Der Workshop findet analog statt\, ihr könnt also allerlei Ideen / Grafiken / Skizzen oder Werkzeug mitnehmen\, was innerhalb der Workshops zu etwas neuen gemixt werden kann.\nVorrangig wird auf Papier gedruckt\, in Absprache sind aber auch Textildruck oder andere Experimente möglich. \nAlle sind willkommen. Vorerfahrungen braucht es nicht.\nEuer Kollektiv oder eure Initiative will gerne ein etwas größeres konkretes Siebdruckprojekt gemeinsam planen / drucken?\nKommt zum Workshop und wir planen gemeinsam die Umsetzung. \nJeden Freitag ab 15:00 Uhr\, Görli II \nAnsprechpartner: Paul
URL:https://familienzentrum-wrangelkiez.de/veranstaltung/offener-siebdruckposter-nachmittag/2031-01-31/
ATTACH;FMTTYPE=image/png:https://familienzentrum-wrangelkiez.de/wp-content/uploads/2026/03/SharepicPosterWorkshop___.png
END:VEVENT
BEGIN:VEVENT
DTSTART;TZID=Europe/Berlin:20310207T150000
DTEND;TZID=Europe/Berlin:20310207T200000
DTSTAMP:20260421T221302
CREATED:20260311T152806Z
LAST-MODIFIED:20260311T152830Z
UID:10053710-1928242800-1928260800@familienzentrum-wrangelkiez.de
SUMMARY:offener Siebdruckposter-Nachmittag
DESCRIPTION:offener Siebdruckposter-Nachmittag \nDu willst Siebdruck als Kreativtechnik kennenlernen?\nOder hast eine besondere Botschaft\, die du vervielfältigen willst?\nDann schau vorbei beim: \nSiebdruckposter- Workshop \nLass uns deine Ideen ausfeilen und gemeinsam in die Wirklichkeit umsetzen.\nBei dem Workshop entwickeln wir gemeinsam Postermotive\, die wir dann mithilfe vom Siebdruck replizieren. Von der Skizze\, übers Layout bis zum fertigen Druck. \nJe nach Gruppendynamik entstehen individuelle oder kollektive Ergebnisse\, die wir auf Papier / Karton / Postkarten und alles Andere drucken. Der Workshop findet analog statt\, ihr könnt also allerlei Ideen / Grafiken / Skizzen oder Werkzeug mitnehmen\, was innerhalb der Workshops zu etwas neuen gemixt werden kann.\nVorrangig wird auf Papier gedruckt\, in Absprache sind aber auch Textildruck oder andere Experimente möglich. \nAlle sind willkommen. Vorerfahrungen braucht es nicht.\nEuer Kollektiv oder eure Initiative will gerne ein etwas größeres konkretes Siebdruckprojekt gemeinsam planen / drucken?\nKommt zum Workshop und wir planen gemeinsam die Umsetzung. \nJeden Freitag ab 15:00 Uhr\, Görli II \nAnsprechpartner: Paul
URL:https://familienzentrum-wrangelkiez.de/veranstaltung/offener-siebdruckposter-nachmittag/2031-02-07/
ATTACH;FMTTYPE=image/png:https://familienzentrum-wrangelkiez.de/wp-content/uploads/2026/03/SharepicPosterWorkshop___.png
END:VEVENT
BEGIN:VEVENT
DTSTART;TZID=Europe/Berlin:20310214T150000
DTEND;TZID=Europe/Berlin:20310214T200000
DTSTAMP:20260421T221302
CREATED:20260311T152806Z
LAST-MODIFIED:20260311T152830Z
UID:10053711-1928847600-1928865600@familienzentrum-wrangelkiez.de
SUMMARY:offener Siebdruckposter-Nachmittag
DESCRIPTION:offener Siebdruckposter-Nachmittag \nDu willst Siebdruck als Kreativtechnik kennenlernen?\nOder hast eine besondere Botschaft\, die du vervielfältigen willst?\nDann schau vorbei beim: \nSiebdruckposter- Workshop \nLass uns deine Ideen ausfeilen und gemeinsam in die Wirklichkeit umsetzen.\nBei dem Workshop entwickeln wir gemeinsam Postermotive\, die wir dann mithilfe vom Siebdruck replizieren. Von der Skizze\, übers Layout bis zum fertigen Druck. \nJe nach Gruppendynamik entstehen individuelle oder kollektive Ergebnisse\, die wir auf Papier / Karton / Postkarten und alles Andere drucken. Der Workshop findet analog statt\, ihr könnt also allerlei Ideen / Grafiken / Skizzen oder Werkzeug mitnehmen\, was innerhalb der Workshops zu etwas neuen gemixt werden kann.\nVorrangig wird auf Papier gedruckt\, in Absprache sind aber auch Textildruck oder andere Experimente möglich. \nAlle sind willkommen. Vorerfahrungen braucht es nicht.\nEuer Kollektiv oder eure Initiative will gerne ein etwas größeres konkretes Siebdruckprojekt gemeinsam planen / drucken?\nKommt zum Workshop und wir planen gemeinsam die Umsetzung. \nJeden Freitag ab 15:00 Uhr\, Görli II \nAnsprechpartner: Paul
URL:https://familienzentrum-wrangelkiez.de/veranstaltung/offener-siebdruckposter-nachmittag/2031-02-14/
ATTACH;FMTTYPE=image/png:https://familienzentrum-wrangelkiez.de/wp-content/uploads/2026/03/SharepicPosterWorkshop___.png
END:VEVENT
BEGIN:VEVENT
DTSTART;TZID=Europe/Berlin:20310221T150000
DTEND;TZID=Europe/Berlin:20310221T200000
DTSTAMP:20260421T221302
CREATED:20260311T152806Z
LAST-MODIFIED:20260311T152830Z
UID:10053712-1929452400-1929470400@familienzentrum-wrangelkiez.de
SUMMARY:offener Siebdruckposter-Nachmittag
DESCRIPTION:offener Siebdruckposter-Nachmittag \nDu willst Siebdruck als Kreativtechnik kennenlernen?\nOder hast eine besondere Botschaft\, die du vervielfältigen willst?\nDann schau vorbei beim: \nSiebdruckposter- Workshop \nLass uns deine Ideen ausfeilen und gemeinsam in die Wirklichkeit umsetzen.\nBei dem Workshop entwickeln wir gemeinsam Postermotive\, die wir dann mithilfe vom Siebdruck replizieren. Von der Skizze\, übers Layout bis zum fertigen Druck. \nJe nach Gruppendynamik entstehen individuelle oder kollektive Ergebnisse\, die wir auf Papier / Karton / Postkarten und alles Andere drucken. Der Workshop findet analog statt\, ihr könnt also allerlei Ideen / Grafiken / Skizzen oder Werkzeug mitnehmen\, was innerhalb der Workshops zu etwas neuen gemixt werden kann.\nVorrangig wird auf Papier gedruckt\, in Absprache sind aber auch Textildruck oder andere Experimente möglich. \nAlle sind willkommen. Vorerfahrungen braucht es nicht.\nEuer Kollektiv oder eure Initiative will gerne ein etwas größeres konkretes Siebdruckprojekt gemeinsam planen / drucken?\nKommt zum Workshop und wir planen gemeinsam die Umsetzung. \nJeden Freitag ab 15:00 Uhr\, Görli II \nAnsprechpartner: Paul
URL:https://familienzentrum-wrangelkiez.de/veranstaltung/offener-siebdruckposter-nachmittag/2031-02-21/
ATTACH;FMTTYPE=image/png:https://familienzentrum-wrangelkiez.de/wp-content/uploads/2026/03/SharepicPosterWorkshop___.png
END:VEVENT
BEGIN:VEVENT
DTSTART;TZID=Europe/Berlin:20310228T150000
DTEND;TZID=Europe/Berlin:20310228T200000
DTSTAMP:20260421T221302
CREATED:20260311T152806Z
LAST-MODIFIED:20260311T152830Z
UID:10053713-1930057200-1930075200@familienzentrum-wrangelkiez.de
SUMMARY:offener Siebdruckposter-Nachmittag
DESCRIPTION:offener Siebdruckposter-Nachmittag \nDu willst Siebdruck als Kreativtechnik kennenlernen?\nOder hast eine besondere Botschaft\, die du vervielfältigen willst?\nDann schau vorbei beim: \nSiebdruckposter- Workshop \nLass uns deine Ideen ausfeilen und gemeinsam in die Wirklichkeit umsetzen.\nBei dem Workshop entwickeln wir gemeinsam Postermotive\, die wir dann mithilfe vom Siebdruck replizieren. Von der Skizze\, übers Layout bis zum fertigen Druck. \nJe nach Gruppendynamik entstehen individuelle oder kollektive Ergebnisse\, die wir auf Papier / Karton / Postkarten und alles Andere drucken. Der Workshop findet analog statt\, ihr könnt also allerlei Ideen / Grafiken / Skizzen oder Werkzeug mitnehmen\, was innerhalb der Workshops zu etwas neuen gemixt werden kann.\nVorrangig wird auf Papier gedruckt\, in Absprache sind aber auch Textildruck oder andere Experimente möglich. \nAlle sind willkommen. Vorerfahrungen braucht es nicht.\nEuer Kollektiv oder eure Initiative will gerne ein etwas größeres konkretes Siebdruckprojekt gemeinsam planen / drucken?\nKommt zum Workshop und wir planen gemeinsam die Umsetzung. \nJeden Freitag ab 15:00 Uhr\, Görli II \nAnsprechpartner: Paul
URL:https://familienzentrum-wrangelkiez.de/veranstaltung/offener-siebdruckposter-nachmittag/2031-02-28/
ATTACH;FMTTYPE=image/png:https://familienzentrum-wrangelkiez.de/wp-content/uploads/2026/03/SharepicPosterWorkshop___.png
END:VEVENT
BEGIN:VEVENT
DTSTART;TZID=Europe/Berlin:20310307T150000
DTEND;TZID=Europe/Berlin:20310307T200000
DTSTAMP:20260421T221302
CREATED:20260311T152806Z
LAST-MODIFIED:20260311T152830Z
UID:10053714-1930662000-1930680000@familienzentrum-wrangelkiez.de
SUMMARY:offener Siebdruckposter-Nachmittag
DESCRIPTION:offener Siebdruckposter-Nachmittag \nDu willst Siebdruck als Kreativtechnik kennenlernen?\nOder hast eine besondere Botschaft\, die du vervielfältigen willst?\nDann schau vorbei beim: \nSiebdruckposter- Workshop \nLass uns deine Ideen ausfeilen und gemeinsam in die Wirklichkeit umsetzen.\nBei dem Workshop entwickeln wir gemeinsam Postermotive\, die wir dann mithilfe vom Siebdruck replizieren. Von der Skizze\, übers Layout bis zum fertigen Druck. \nJe nach Gruppendynamik entstehen individuelle oder kollektive Ergebnisse\, die wir auf Papier / Karton / Postkarten und alles Andere drucken. Der Workshop findet analog statt\, ihr könnt also allerlei Ideen / Grafiken / Skizzen oder Werkzeug mitnehmen\, was innerhalb der Workshops zu etwas neuen gemixt werden kann.\nVorrangig wird auf Papier gedruckt\, in Absprache sind aber auch Textildruck oder andere Experimente möglich. \nAlle sind willkommen. Vorerfahrungen braucht es nicht.\nEuer Kollektiv oder eure Initiative will gerne ein etwas größeres konkretes Siebdruckprojekt gemeinsam planen / drucken?\nKommt zum Workshop und wir planen gemeinsam die Umsetzung. \nJeden Freitag ab 15:00 Uhr\, Görli II \nAnsprechpartner: Paul
URL:https://familienzentrum-wrangelkiez.de/veranstaltung/offener-siebdruckposter-nachmittag/2031-03-07/
ATTACH;FMTTYPE=image/png:https://familienzentrum-wrangelkiez.de/wp-content/uploads/2026/03/SharepicPosterWorkshop___.png
END:VEVENT
END:VCALENDAR