BEGIN:VCALENDAR
VERSION:2.0
PRODID:-//Kiezanker 36 - ECPv6.15.20//NONSGML v1.0//EN
CALSCALE:GREGORIAN
METHOD:PUBLISH
X-WR-CALNAME:Kiezanker 36
X-ORIGINAL-URL:https://familienzentrum-wrangelkiez.de
X-WR-CALDESC:Veranstaltungen für Kiezanker 36
REFRESH-INTERVAL;VALUE=DURATION:PT1H
X-Robots-Tag:noindex
X-PUBLISHED-TTL:PT1H
BEGIN:VTIMEZONE
TZID:Europe/Berlin
BEGIN:DAYLIGHT
TZOFFSETFROM:+0100
TZOFFSETTO:+0200
TZNAME:CEST
DTSTART:20270328T010000
END:DAYLIGHT
BEGIN:STANDARD
TZOFFSETFROM:+0200
TZOFFSETTO:+0100
TZNAME:CET
DTSTART:20271031T010000
END:STANDARD
BEGIN:DAYLIGHT
TZOFFSETFROM:+0100
TZOFFSETTO:+0200
TZNAME:CEST
DTSTART:20280326T010000
END:DAYLIGHT
BEGIN:STANDARD
TZOFFSETFROM:+0200
TZOFFSETTO:+0100
TZNAME:CET
DTSTART:20281029T010000
END:STANDARD
BEGIN:DAYLIGHT
TZOFFSETFROM:+0100
TZOFFSETTO:+0200
TZNAME:CEST
DTSTART:20290325T010000
END:DAYLIGHT
BEGIN:STANDARD
TZOFFSETFROM:+0200
TZOFFSETTO:+0100
TZNAME:CET
DTSTART:20291028T010000
END:STANDARD
END:VTIMEZONE
BEGIN:VEVENT
DTSTART;TZID=Europe/Berlin:20280713T190000
DTEND;TZID=Europe/Berlin:20280713T210000
DTSTAMP:20260426T044642
CREATED:20220923T112710Z
LAST-MODIFIED:20221031T134033Z
UID:10007438-1847127600-1847134800@familienzentrum-wrangelkiez.de
SUMMARY:Salon Graubunt 60+
DESCRIPTION:ErwDas sind wir: eine Gruppe\, entstanden im Nachbarschaftszentrum Wrangelkiez.\nWir sind im Unruhe-Stand\, haben Fragen\, auch Visionen\, neugierig auf dich\, wollen uns austauschen.\nWas im Salon passiert? Das bestimmen die\, die kommen. \nAlt werden geht gar nicht….aber wenn doch? \nOrt: Café\njeden zweiten Donnerstag von 19:00 – 21:00 Uhr
URL:https://familienzentrum-wrangelkiez.de/veranstaltung/salon-graubunt-60/2028-07-13/
CATEGORIES:Begegnung & Nachbarschaft,Erwachsene
ATTACH;FMTTYPE=image/jpeg:https://familienzentrum-wrangelkiez.de/wp-content/uploads/2022/09/360_F_19346489_OwXTVPIhBINioDSNjQuztqmNFdlxE9RT-e1663932270307.jpg
END:VEVENT
END:VCALENDAR