BEGIN:VCALENDAR
VERSION:2.0
PRODID:-//Kiezanker 36 - ECPv6.15.20//NONSGML v1.0//EN
CALSCALE:GREGORIAN
METHOD:PUBLISH
X-WR-CALNAME:Kiezanker 36
X-ORIGINAL-URL:https://familienzentrum-wrangelkiez.de
X-WR-CALDESC:Veranstaltungen für Kiezanker 36
REFRESH-INTERVAL;VALUE=DURATION:PT1H
X-Robots-Tag:noindex
X-PUBLISHED-TTL:PT1H
BEGIN:VTIMEZONE
TZID:Europe/Berlin
BEGIN:DAYLIGHT
TZOFFSETFROM:+0100
TZOFFSETTO:+0200
TZNAME:CEST
DTSTART:20240331T010000
END:DAYLIGHT
BEGIN:STANDARD
TZOFFSETFROM:+0200
TZOFFSETTO:+0100
TZNAME:CET
DTSTART:20241027T010000
END:STANDARD
BEGIN:DAYLIGHT
TZOFFSETFROM:+0100
TZOFFSETTO:+0200
TZNAME:CEST
DTSTART:20250330T010000
END:DAYLIGHT
BEGIN:STANDARD
TZOFFSETFROM:+0200
TZOFFSETTO:+0100
TZNAME:CET
DTSTART:20251026T010000
END:STANDARD
BEGIN:DAYLIGHT
TZOFFSETFROM:+0100
TZOFFSETTO:+0200
TZNAME:CEST
DTSTART:20260329T010000
END:DAYLIGHT
BEGIN:STANDARD
TZOFFSETFROM:+0200
TZOFFSETTO:+0100
TZNAME:CET
DTSTART:20261025T010000
END:STANDARD
END:VTIMEZONE
BEGIN:VEVENT
DTSTART;TZID=Europe/Berlin:20251205T110000
DTEND;TZID=Europe/Berlin:20251205T123000
DTSTAMP:20260424T170234
CREATED:20250624T135747Z
LAST-MODIFIED:20250624T144137Z
UID:10052650-1764932400-1764937800@familienzentrum-wrangelkiez.de
SUMMARY:Qi Gong\, freitags 11:00 – 12:30 Uhr
DESCRIPTION:Pakua\, Chinese Symbol – Vector Image \nQi-Gong Übungen sind Bewegungen und Entspannungsübungen\, die als Teil der traditionellen chinesischen Medizin gelten. Der chinesische Begriff Qi ist als die vitale Kraft des Körpers – die Lebensenergie – zu verstehen\, während Gong mit Übung und Können übersetzt wird. Mit Qi Gong lernt man also\, mit seiner Lebensenergie umzugehen. Die ruhigen\, fließenden Bewegungen regulieren die Atmung\, die Körperhaltung wird verbessert und der Geist kommt zur Ruhe. Ein Einstieg in die Gruppe ist jederzeit möglich.\nKursleitung: Imelda Wild\nKosten: 10€ (ermäßigt 7€)\nRaum: Skalitzer 2\, bei gutem Wetter im Garten\nAnmeldung: 0176 – 47678997\nMail: imeldamol-wild@web.de
URL:https://familienzentrum-wrangelkiez.de/veranstaltung/qi-gong-freitags-1100-1230-uhr/2025-12-05/
LOCATION:Kiezanker 36\, Cuvrystr. 13/14\, Berlin\, 10997\, Deutschland
CATEGORIES:Gesundheit & Bewegung
ATTACH;FMTTYPE=image/jpeg:https://familienzentrum-wrangelkiez.de/wp-content/uploads/2025/06/istockphoto-450804067-612x612-1.jpg
GEO:52.49872;13.44403
X-APPLE-STRUCTURED-LOCATION;VALUE=URI;X-ADDRESS=Kiezanker 36 Cuvrystr. 13/14 Berlin 10997 Deutschland;X-APPLE-RADIUS=500;X-TITLE=Cuvrystr. 13/14:geo:13.44403,52.49872
END:VEVENT
BEGIN:VEVENT
DTSTART;TZID=Europe/Berlin:20251211T190000
DTEND;TZID=Europe/Berlin:20251211T210000
DTSTAMP:20260424T170234
CREATED:20220923T112710Z
LAST-MODIFIED:20221031T134033Z
UID:10007407-1765479600-1765486800@familienzentrum-wrangelkiez.de
SUMMARY:Salon Graubunt 60+
DESCRIPTION:ErwDas sind wir: eine Gruppe\, entstanden im Nachbarschaftszentrum Wrangelkiez.\nWir sind im Unruhe-Stand\, haben Fragen\, auch Visionen\, neugierig auf dich\, wollen uns austauschen.\nWas im Salon passiert? Das bestimmen die\, die kommen. \nAlt werden geht gar nicht….aber wenn doch? \nOrt: Café\njeden zweiten Donnerstag von 19:00 – 21:00 Uhr
URL:https://familienzentrum-wrangelkiez.de/veranstaltung/salon-graubunt-60/2025-12-11/
CATEGORIES:Begegnung & Nachbarschaft,Erwachsene
ATTACH;FMTTYPE=image/jpeg:https://familienzentrum-wrangelkiez.de/wp-content/uploads/2022/09/360_F_19346489_OwXTVPIhBINioDSNjQuztqmNFdlxE9RT-e1663932270307.jpg
END:VEVENT
BEGIN:VEVENT
DTSTART;TZID=Europe/Berlin:20251212T110000
DTEND;TZID=Europe/Berlin:20251212T123000
DTSTAMP:20260424T170234
CREATED:20250624T135747Z
LAST-MODIFIED:20250624T144137Z
UID:10052651-1765537200-1765542600@familienzentrum-wrangelkiez.de
SUMMARY:Qi Gong\, freitags 11:00 – 12:30 Uhr
DESCRIPTION:Pakua\, Chinese Symbol – Vector Image \nQi-Gong Übungen sind Bewegungen und Entspannungsübungen\, die als Teil der traditionellen chinesischen Medizin gelten. Der chinesische Begriff Qi ist als die vitale Kraft des Körpers – die Lebensenergie – zu verstehen\, während Gong mit Übung und Können übersetzt wird. Mit Qi Gong lernt man also\, mit seiner Lebensenergie umzugehen. Die ruhigen\, fließenden Bewegungen regulieren die Atmung\, die Körperhaltung wird verbessert und der Geist kommt zur Ruhe. Ein Einstieg in die Gruppe ist jederzeit möglich.\nKursleitung: Imelda Wild\nKosten: 10€ (ermäßigt 7€)\nRaum: Skalitzer 2\, bei gutem Wetter im Garten\nAnmeldung: 0176 – 47678997\nMail: imeldamol-wild@web.de
URL:https://familienzentrum-wrangelkiez.de/veranstaltung/qi-gong-freitags-1100-1230-uhr/2025-12-12/
LOCATION:Kiezanker 36\, Cuvrystr. 13/14\, Berlin\, 10997\, Deutschland
CATEGORIES:Gesundheit & Bewegung
ATTACH;FMTTYPE=image/jpeg:https://familienzentrum-wrangelkiez.de/wp-content/uploads/2025/06/istockphoto-450804067-612x612-1.jpg
GEO:52.49872;13.44403
X-APPLE-STRUCTURED-LOCATION;VALUE=URI;X-ADDRESS=Kiezanker 36 Cuvrystr. 13/14 Berlin 10997 Deutschland;X-APPLE-RADIUS=500;X-TITLE=Cuvrystr. 13/14:geo:13.44403,52.49872
END:VEVENT
BEGIN:VEVENT
DTSTART;TZID=Europe/Berlin:20251219T110000
DTEND;TZID=Europe/Berlin:20251219T123000
DTSTAMP:20260424T170234
CREATED:20250624T135747Z
LAST-MODIFIED:20250624T144137Z
UID:10052652-1766142000-1766147400@familienzentrum-wrangelkiez.de
SUMMARY:Qi Gong\, freitags 11:00 – 12:30 Uhr
DESCRIPTION:Pakua\, Chinese Symbol – Vector Image \nQi-Gong Übungen sind Bewegungen und Entspannungsübungen\, die als Teil der traditionellen chinesischen Medizin gelten. Der chinesische Begriff Qi ist als die vitale Kraft des Körpers – die Lebensenergie – zu verstehen\, während Gong mit Übung und Können übersetzt wird. Mit Qi Gong lernt man also\, mit seiner Lebensenergie umzugehen. Die ruhigen\, fließenden Bewegungen regulieren die Atmung\, die Körperhaltung wird verbessert und der Geist kommt zur Ruhe. Ein Einstieg in die Gruppe ist jederzeit möglich.\nKursleitung: Imelda Wild\nKosten: 10€ (ermäßigt 7€)\nRaum: Skalitzer 2\, bei gutem Wetter im Garten\nAnmeldung: 0176 – 47678997\nMail: imeldamol-wild@web.de
URL:https://familienzentrum-wrangelkiez.de/veranstaltung/qi-gong-freitags-1100-1230-uhr/2025-12-19/
LOCATION:Kiezanker 36\, Cuvrystr. 13/14\, Berlin\, 10997\, Deutschland
CATEGORIES:Gesundheit & Bewegung
ATTACH;FMTTYPE=image/jpeg:https://familienzentrum-wrangelkiez.de/wp-content/uploads/2025/06/istockphoto-450804067-612x612-1.jpg
GEO:52.49872;13.44403
X-APPLE-STRUCTURED-LOCATION;VALUE=URI;X-ADDRESS=Kiezanker 36 Cuvrystr. 13/14 Berlin 10997 Deutschland;X-APPLE-RADIUS=500;X-TITLE=Cuvrystr. 13/14:geo:13.44403,52.49872
END:VEVENT
BEGIN:VEVENT
DTSTART;TZID=Europe/Berlin:20251226T110000
DTEND;TZID=Europe/Berlin:20251226T123000
DTSTAMP:20260424T170234
CREATED:20250624T135747Z
LAST-MODIFIED:20250624T144137Z
UID:10052653-1766746800-1766752200@familienzentrum-wrangelkiez.de
SUMMARY:Qi Gong\, freitags 11:00 – 12:30 Uhr
DESCRIPTION:Pakua\, Chinese Symbol – Vector Image \nQi-Gong Übungen sind Bewegungen und Entspannungsübungen\, die als Teil der traditionellen chinesischen Medizin gelten. Der chinesische Begriff Qi ist als die vitale Kraft des Körpers – die Lebensenergie – zu verstehen\, während Gong mit Übung und Können übersetzt wird. Mit Qi Gong lernt man also\, mit seiner Lebensenergie umzugehen. Die ruhigen\, fließenden Bewegungen regulieren die Atmung\, die Körperhaltung wird verbessert und der Geist kommt zur Ruhe. Ein Einstieg in die Gruppe ist jederzeit möglich.\nKursleitung: Imelda Wild\nKosten: 10€ (ermäßigt 7€)\nRaum: Skalitzer 2\, bei gutem Wetter im Garten\nAnmeldung: 0176 – 47678997\nMail: imeldamol-wild@web.de
URL:https://familienzentrum-wrangelkiez.de/veranstaltung/qi-gong-freitags-1100-1230-uhr/2025-12-26/
LOCATION:Kiezanker 36\, Cuvrystr. 13/14\, Berlin\, 10997\, Deutschland
CATEGORIES:Gesundheit & Bewegung
ATTACH;FMTTYPE=image/jpeg:https://familienzentrum-wrangelkiez.de/wp-content/uploads/2025/06/istockphoto-450804067-612x612-1.jpg
GEO:52.49872;13.44403
X-APPLE-STRUCTURED-LOCATION;VALUE=URI;X-ADDRESS=Kiezanker 36 Cuvrystr. 13/14 Berlin 10997 Deutschland;X-APPLE-RADIUS=500;X-TITLE=Cuvrystr. 13/14:geo:13.44403,52.49872
END:VEVENT
END:VCALENDAR