BEGIN:VCALENDAR
VERSION:2.0
PRODID:-//Kiezanker 36 - ECPv6.15.20//NONSGML v1.0//EN
CALSCALE:GREGORIAN
METHOD:PUBLISH
X-WR-CALNAME:Kiezanker 36
X-ORIGINAL-URL:https://familienzentrum-wrangelkiez.de
X-WR-CALDESC:Veranstaltungen für Kiezanker 36
REFRESH-INTERVAL;VALUE=DURATION:PT1H
X-Robots-Tag:noindex
X-PUBLISHED-TTL:PT1H
BEGIN:VTIMEZONE
TZID:Europe/Berlin
BEGIN:DAYLIGHT
TZOFFSETFROM:+0100
TZOFFSETTO:+0200
TZNAME:CEST
DTSTART:20250330T010000
END:DAYLIGHT
BEGIN:STANDARD
TZOFFSETFROM:+0200
TZOFFSETTO:+0100
TZNAME:CET
DTSTART:20251026T010000
END:STANDARD
BEGIN:DAYLIGHT
TZOFFSETFROM:+0100
TZOFFSETTO:+0200
TZNAME:CEST
DTSTART:20260329T010000
END:DAYLIGHT
BEGIN:STANDARD
TZOFFSETFROM:+0200
TZOFFSETTO:+0100
TZNAME:CET
DTSTART:20261025T010000
END:STANDARD
BEGIN:DAYLIGHT
TZOFFSETFROM:+0100
TZOFFSETTO:+0200
TZNAME:CEST
DTSTART:20270328T010000
END:DAYLIGHT
BEGIN:STANDARD
TZOFFSETFROM:+0200
TZOFFSETTO:+0100
TZNAME:CET
DTSTART:20271031T010000
END:STANDARD
END:VTIMEZONE
BEGIN:VEVENT
DTSTART;TZID=Europe/Berlin:20260428T150000
DTEND;TZID=Europe/Berlin:20260428T170000
DTSTAMP:20260421T154449
CREATED:20260314T140228Z
LAST-MODIFIED:20260314T145356Z
UID:10053725-1777388400-1777395600@familienzentrum-wrangelkiez.de
SUMMARY:Eltern-Kind-Musikkurse: Musikmäuse (0\,5 – 1\,5 Jahre) und Musiksterne (1\,5 – 3 Jahre)
DESCRIPTION:Muisksterne mit Ulrich Stern \nEltern-Kind-Musikkurse mit Ulrich Stern.\nIn den Musikkursen lernen Eure Kinder zusammen mit einem Elternteil spielerisches Musizieren und musikalisches Kinderspielen.\nSie werden auf diese Weise in die wundervolle Welt des Musizierens eingeführt. \nEs gibt 2 Kurse für unterschiedliche Altersstufen: \n1.) Musikmäuse (0\,5 – 1\,5 Jahre)\, dienstags 15:00 Uhr \n2.) Musiksterne (1\,5 – 3 Jahre)\, dienstags 16:00 Uhr \nACHTUNG: Keine Kurse am 07.04.2026 (nach Ostern)! \nDauer: 8 Termine. Sollte einmal eine Stunde ausfallen\, weil Ulrich verhindert ist\, wird sie nachgeholt.\nKosten: 80\,00€; ermäßigt: 40\,00€\nInfo & Anmeldung: familienzentrum-wrangelkiez@pfh-berlin.de \nDie Kurse finden im FamZ KiezAnker36\, im 1. OG\, Raum“ Saklitzer1″ statt.\nZugang zum Haus wegen der Baustelle zurzeit NUR über die Falckensteinstraße (Höhe Nr. 40) möglich. \nWeitere Informationen zu Ulrich Stern und seine weiteren Angebote unter: http://ulrichstern.de/
URL:https://familienzentrum-wrangelkiez.de/veranstaltung/musikmaeuse-05-15-jahre-mit-ulrich-stern-2-2-2-2-2-2/2026-04-28/
CATEGORIES:Familie & Kinder
ATTACH;FMTTYPE=image/jpeg:https://familienzentrum-wrangelkiez.de/wp-content/uploads/2020/11/Folie06-e1569345659768.jpg
END:VEVENT
END:VCALENDAR