BEGIN:VCALENDAR
VERSION:2.0
PRODID:-//Kiezanker 36 - ECPv6.15.20//NONSGML v1.0//EN
CALSCALE:GREGORIAN
METHOD:PUBLISH
X-WR-CALNAME:Kiezanker 36
X-ORIGINAL-URL:https://familienzentrum-wrangelkiez.de
X-WR-CALDESC:Veranstaltungen für Kiezanker 36
REFRESH-INTERVAL;VALUE=DURATION:PT1H
X-Robots-Tag:noindex
X-PUBLISHED-TTL:PT1H
BEGIN:VTIMEZONE
TZID:Europe/Berlin
BEGIN:DAYLIGHT
TZOFFSETFROM:+0100
TZOFFSETTO:+0200
TZNAME:CEST
DTSTART:20250330T010000
END:DAYLIGHT
BEGIN:STANDARD
TZOFFSETFROM:+0200
TZOFFSETTO:+0100
TZNAME:CET
DTSTART:20251026T010000
END:STANDARD
BEGIN:DAYLIGHT
TZOFFSETFROM:+0100
TZOFFSETTO:+0200
TZNAME:CEST
DTSTART:20260329T010000
END:DAYLIGHT
BEGIN:STANDARD
TZOFFSETFROM:+0200
TZOFFSETTO:+0100
TZNAME:CET
DTSTART:20261025T010000
END:STANDARD
BEGIN:DAYLIGHT
TZOFFSETFROM:+0100
TZOFFSETTO:+0200
TZNAME:CEST
DTSTART:20270328T010000
END:DAYLIGHT
BEGIN:STANDARD
TZOFFSETFROM:+0200
TZOFFSETTO:+0100
TZNAME:CET
DTSTART:20271031T010000
END:STANDARD
END:VTIMEZONE
BEGIN:VEVENT
DTSTART;TZID=Europe/Berlin:20260406T170000
DTEND;TZID=Europe/Berlin:20260406T200000
DTSTAMP:20260424T170719
CREATED:20250624T140349Z
LAST-MODIFIED:20250624T141950Z
UID:10052435-1775494800-1775505600@familienzentrum-wrangelkiez.de
SUMMARY:Gitarrenkurs
DESCRIPTION:Der Gitarrenunterricht findet an drei Nachmittagen statt.\nTeilnehmer lernen Liedbegleitung\, Schlag- und Zupftechniken zu Lieblingssongs.\nGitarren sind vorhanden und können gegen Kaution entliehen werden. \nMontags\, Mittwochs und Freitags ab 16:00 Uhr\nKursleitung: Markus Haußmann\nPreis nach Absprache\nAnmeldung unter 030 611 33 98\nRaum: Spreewaldplatz
URL:https://familienzentrum-wrangelkiez.de/veranstaltung/gitarrenkurs/2026-04-06/
LOCATION:Kiezanker 36\, Cuvrystr. 13/14\, Berlin\, 10997\, Deutschland
CATEGORIES:Bildung,Familie & Kinder,Kunst & Handwerk
ATTACH;FMTTYPE=image/jpeg:https://familienzentrum-wrangelkiez.de/wp-content/uploads/2017/01/Gitarrenunterricht.jpg
GEO:52.49872;13.44403
X-APPLE-STRUCTURED-LOCATION;VALUE=URI;X-ADDRESS=Kiezanker 36 Cuvrystr. 13/14 Berlin 10997 Deutschland;X-APPLE-RADIUS=500;X-TITLE=Cuvrystr. 13/14:geo:13.44403,52.49872
END:VEVENT
BEGIN:VEVENT
DTSTART;TZID=Europe/Berlin:20260408T170000
DTEND;TZID=Europe/Berlin:20260408T200000
DTSTAMP:20260424T170719
CREATED:20250624T140349Z
LAST-MODIFIED:20250624T141950Z
UID:10052436-1775667600-1775678400@familienzentrum-wrangelkiez.de
SUMMARY:Gitarrenkurs
DESCRIPTION:Der Gitarrenunterricht findet an drei Nachmittagen statt.\nTeilnehmer lernen Liedbegleitung\, Schlag- und Zupftechniken zu Lieblingssongs.\nGitarren sind vorhanden und können gegen Kaution entliehen werden. \nMontags\, Mittwochs und Freitags ab 16:00 Uhr\nKursleitung: Markus Haußmann\nPreis nach Absprache\nAnmeldung unter 030 611 33 98\nRaum: Spreewaldplatz
URL:https://familienzentrum-wrangelkiez.de/veranstaltung/gitarrenkurs/2026-04-08/
LOCATION:Kiezanker 36\, Cuvrystr. 13/14\, Berlin\, 10997\, Deutschland
CATEGORIES:Bildung,Familie & Kinder,Kunst & Handwerk
ATTACH;FMTTYPE=image/jpeg:https://familienzentrum-wrangelkiez.de/wp-content/uploads/2017/01/Gitarrenunterricht.jpg
GEO:52.49872;13.44403
X-APPLE-STRUCTURED-LOCATION;VALUE=URI;X-ADDRESS=Kiezanker 36 Cuvrystr. 13/14 Berlin 10997 Deutschland;X-APPLE-RADIUS=500;X-TITLE=Cuvrystr. 13/14:geo:13.44403,52.49872
END:VEVENT
BEGIN:VEVENT
DTSTART;TZID=Europe/Berlin:20260410T170000
DTEND;TZID=Europe/Berlin:20260410T200000
DTSTAMP:20260424T170719
CREATED:20250624T140349Z
LAST-MODIFIED:20250624T141950Z
UID:10052437-1775840400-1775851200@familienzentrum-wrangelkiez.de
SUMMARY:Gitarrenkurs
DESCRIPTION:Der Gitarrenunterricht findet an drei Nachmittagen statt.\nTeilnehmer lernen Liedbegleitung\, Schlag- und Zupftechniken zu Lieblingssongs.\nGitarren sind vorhanden und können gegen Kaution entliehen werden. \nMontags\, Mittwochs und Freitags ab 16:00 Uhr\nKursleitung: Markus Haußmann\nPreis nach Absprache\nAnmeldung unter 030 611 33 98\nRaum: Spreewaldplatz
URL:https://familienzentrum-wrangelkiez.de/veranstaltung/gitarrenkurs/2026-04-10/
LOCATION:Kiezanker 36\, Cuvrystr. 13/14\, Berlin\, 10997\, Deutschland
CATEGORIES:Bildung,Familie & Kinder,Kunst & Handwerk
ATTACH;FMTTYPE=image/jpeg:https://familienzentrum-wrangelkiez.de/wp-content/uploads/2017/01/Gitarrenunterricht.jpg
GEO:52.49872;13.44403
X-APPLE-STRUCTURED-LOCATION;VALUE=URI;X-ADDRESS=Kiezanker 36 Cuvrystr. 13/14 Berlin 10997 Deutschland;X-APPLE-RADIUS=500;X-TITLE=Cuvrystr. 13/14:geo:13.44403,52.49872
END:VEVENT
END:VCALENDAR