BEGIN:VCALENDAR
VERSION:2.0
PRODID:-//Kiezanker 36 - ECPv6.15.20//NONSGML v1.0//EN
CALSCALE:GREGORIAN
METHOD:PUBLISH
X-ORIGINAL-URL:https://familienzentrum-wrangelkiez.de
X-WR-CALDESC:Veranstaltungen für Kiezanker 36
REFRESH-INTERVAL;VALUE=DURATION:PT1H
X-Robots-Tag:noindex
X-PUBLISHED-TTL:PT1H
BEGIN:VTIMEZONE
TZID:Europe/Berlin
BEGIN:DAYLIGHT
TZOFFSETFROM:+0100
TZOFFSETTO:+0200
TZNAME:CEST
DTSTART:20240331T010000
END:DAYLIGHT
BEGIN:STANDARD
TZOFFSETFROM:+0200
TZOFFSETTO:+0100
TZNAME:CET
DTSTART:20241027T010000
END:STANDARD
BEGIN:DAYLIGHT
TZOFFSETFROM:+0100
TZOFFSETTO:+0200
TZNAME:CEST
DTSTART:20250330T010000
END:DAYLIGHT
BEGIN:STANDARD
TZOFFSETFROM:+0200
TZOFFSETTO:+0100
TZNAME:CET
DTSTART:20251026T010000
END:STANDARD
BEGIN:DAYLIGHT
TZOFFSETFROM:+0100
TZOFFSETTO:+0200
TZNAME:CEST
DTSTART:20260329T010000
END:DAYLIGHT
BEGIN:STANDARD
TZOFFSETFROM:+0200
TZOFFSETTO:+0100
TZNAME:CET
DTSTART:20261025T010000
END:STANDARD
END:VTIMEZONE
BEGIN:VEVENT
DTSTART;TZID=Europe/Berlin:20250901T140000
DTEND;TZID=Europe/Berlin:20250901T190000
DTSTAMP:20260425T050955
CREATED:20170423T140532Z
LAST-MODIFIED:20221031T133115Z
UID:10002620-1756735200-1756753200@familienzentrum-wrangelkiez.de
SUMMARY:Groove Monsters Schlagzeugunterricht
DESCRIPTION:Schlagzeugunterricht für Kinder und Jugendliche – für Anfänger und Fortgeschrittene \nLerne alles rund ums Schlagzeugspielen!\nRudiments\, Grooves\, Pad\, Noten lesen\, zu Songs spielen\, Sticktricks etc.\nIn Zweier-Gruppen oder Einzelunterricht\, 45 Minuten! \nMontag und Mittwoch\, 14.00 – 19.00 Uhr – Termine nach Vereinbarung\nKursleitung: Jarita Freydank\nPreis nach Absprache\nAnmeldung erforderlich!\nRaum: Görli 1
URL:https://familienzentrum-wrangelkiez.de/veranstaltung/schlagzeugunterricht-fuer-anfaenger-und-fortgeschrittene-2/2025-09-01/
LOCATION:Kiezanker 36\, Cuvrystr. 13/14\, Berlin\, 10997\, Deutschland
CATEGORIES:Bildung,Erwachsene,Familie & Kinder
ATTACH;FMTTYPE=image/jpeg:https://familienzentrum-wrangelkiez.de/wp-content/uploads/2017/04/drummer-1.jpg
GEO:52.49872;13.44403
X-APPLE-STRUCTURED-LOCATION;VALUE=URI;X-ADDRESS=Kiezanker 36 Cuvrystr. 13/14 Berlin 10997 Deutschland;X-APPLE-RADIUS=500;X-TITLE=Cuvrystr. 13/14:geo:13.44403,52.49872
END:VEVENT
BEGIN:VEVENT
DTSTART;TZID=Europe/Berlin:20250901T170000
DTEND;TZID=Europe/Berlin:20250901T200000
DTSTAMP:20260425T050955
CREATED:20250624T140349Z
LAST-MODIFIED:20250624T141950Z
UID:10052342-1756746000-1756756800@familienzentrum-wrangelkiez.de
SUMMARY:Gitarrenkurs
DESCRIPTION:Der Gitarrenunterricht findet an drei Nachmittagen statt.\nTeilnehmer lernen Liedbegleitung\, Schlag- und Zupftechniken zu Lieblingssongs.\nGitarren sind vorhanden und können gegen Kaution entliehen werden. \nMontags\, Mittwochs und Freitags ab 16:00 Uhr\nKursleitung: Markus Haußmann\nPreis nach Absprache\nAnmeldung unter 030 611 33 98\nRaum: Spreewaldplatz
URL:https://familienzentrum-wrangelkiez.de/veranstaltung/gitarrenkurs/2025-09-01/
LOCATION:Kiezanker 36\, Cuvrystr. 13/14\, Berlin\, 10997\, Deutschland
CATEGORIES:Bildung,Familie & Kinder,Kunst & Handwerk
ATTACH;FMTTYPE=image/jpeg:https://familienzentrum-wrangelkiez.de/wp-content/uploads/2017/01/Gitarrenunterricht.jpg
GEO:52.49872;13.44403
X-APPLE-STRUCTURED-LOCATION;VALUE=URI;X-ADDRESS=Kiezanker 36 Cuvrystr. 13/14 Berlin 10997 Deutschland;X-APPLE-RADIUS=500;X-TITLE=Cuvrystr. 13/14:geo:13.44403,52.49872
END:VEVENT
BEGIN:VEVENT
DTSTART;TZID=Europe/Berlin:20250903T170000
DTEND;TZID=Europe/Berlin:20250903T200000
DTSTAMP:20260425T050955
CREATED:20250624T140349Z
LAST-MODIFIED:20250624T141950Z
UID:10052343-1756918800-1756929600@familienzentrum-wrangelkiez.de
SUMMARY:Gitarrenkurs
DESCRIPTION:Der Gitarrenunterricht findet an drei Nachmittagen statt.\nTeilnehmer lernen Liedbegleitung\, Schlag- und Zupftechniken zu Lieblingssongs.\nGitarren sind vorhanden und können gegen Kaution entliehen werden. \nMontags\, Mittwochs und Freitags ab 16:00 Uhr\nKursleitung: Markus Haußmann\nPreis nach Absprache\nAnmeldung unter 030 611 33 98\nRaum: Spreewaldplatz
URL:https://familienzentrum-wrangelkiez.de/veranstaltung/gitarrenkurs/2025-09-03/
LOCATION:Kiezanker 36\, Cuvrystr. 13/14\, Berlin\, 10997\, Deutschland
CATEGORIES:Bildung,Familie & Kinder,Kunst & Handwerk
ATTACH;FMTTYPE=image/jpeg:https://familienzentrum-wrangelkiez.de/wp-content/uploads/2017/01/Gitarrenunterricht.jpg
GEO:52.49872;13.44403
X-APPLE-STRUCTURED-LOCATION;VALUE=URI;X-ADDRESS=Kiezanker 36 Cuvrystr. 13/14 Berlin 10997 Deutschland;X-APPLE-RADIUS=500;X-TITLE=Cuvrystr. 13/14:geo:13.44403,52.49872
END:VEVENT
BEGIN:VEVENT
DTSTART;TZID=Europe/Berlin:20250905T170000
DTEND;TZID=Europe/Berlin:20250905T200000
DTSTAMP:20260425T050955
CREATED:20250624T140349Z
LAST-MODIFIED:20250624T141950Z
UID:10052344-1757091600-1757102400@familienzentrum-wrangelkiez.de
SUMMARY:Gitarrenkurs
DESCRIPTION:Der Gitarrenunterricht findet an drei Nachmittagen statt.\nTeilnehmer lernen Liedbegleitung\, Schlag- und Zupftechniken zu Lieblingssongs.\nGitarren sind vorhanden und können gegen Kaution entliehen werden. \nMontags\, Mittwochs und Freitags ab 16:00 Uhr\nKursleitung: Markus Haußmann\nPreis nach Absprache\nAnmeldung unter 030 611 33 98\nRaum: Spreewaldplatz
URL:https://familienzentrum-wrangelkiez.de/veranstaltung/gitarrenkurs/2025-09-05/
LOCATION:Kiezanker 36\, Cuvrystr. 13/14\, Berlin\, 10997\, Deutschland
CATEGORIES:Bildung,Familie & Kinder,Kunst & Handwerk
ATTACH;FMTTYPE=image/jpeg:https://familienzentrum-wrangelkiez.de/wp-content/uploads/2017/01/Gitarrenunterricht.jpg
GEO:52.49872;13.44403
X-APPLE-STRUCTURED-LOCATION;VALUE=URI;X-ADDRESS=Kiezanker 36 Cuvrystr. 13/14 Berlin 10997 Deutschland;X-APPLE-RADIUS=500;X-TITLE=Cuvrystr. 13/14:geo:13.44403,52.49872
END:VEVENT
END:VCALENDAR