BEGIN:VCALENDAR
VERSION:2.0
PRODID:-//Kiezanker 36 - ECPv6.15.20//NONSGML v1.0//EN
CALSCALE:GREGORIAN
METHOD:PUBLISH
X-ORIGINAL-URL:https://familienzentrum-wrangelkiez.de
X-WR-CALDESC:Veranstaltungen für Kiezanker 36
REFRESH-INTERVAL;VALUE=DURATION:PT1H
X-Robots-Tag:noindex
X-PUBLISHED-TTL:PT1H
BEGIN:VTIMEZONE
TZID:Europe/Berlin
BEGIN:DAYLIGHT
TZOFFSETFROM:+0100
TZOFFSETTO:+0200
TZNAME:CEST
DTSTART:20250330T010000
END:DAYLIGHT
BEGIN:STANDARD
TZOFFSETFROM:+0200
TZOFFSETTO:+0100
TZNAME:CET
DTSTART:20251026T010000
END:STANDARD
BEGIN:DAYLIGHT
TZOFFSETFROM:+0100
TZOFFSETTO:+0200
TZNAME:CEST
DTSTART:20260329T010000
END:DAYLIGHT
BEGIN:STANDARD
TZOFFSETFROM:+0200
TZOFFSETTO:+0100
TZNAME:CET
DTSTART:20261025T010000
END:STANDARD
BEGIN:DAYLIGHT
TZOFFSETFROM:+0100
TZOFFSETTO:+0200
TZNAME:CEST
DTSTART:20270328T010000
END:DAYLIGHT
BEGIN:STANDARD
TZOFFSETFROM:+0200
TZOFFSETTO:+0100
TZNAME:CET
DTSTART:20271031T010000
END:STANDARD
END:VTIMEZONE
BEGIN:VEVENT
DTSTART;TZID=Europe/Berlin:20260601T170000
DTEND;TZID=Europe/Berlin:20260601T200000
DTSTAMP:20260424T170233
CREATED:20250624T140349Z
LAST-MODIFIED:20250624T141950Z
UID:10052459-1780333200-1780344000@familienzentrum-wrangelkiez.de
SUMMARY:Gitarrenkurs
DESCRIPTION:Der Gitarrenunterricht findet an drei Nachmittagen statt.\nTeilnehmer lernen Liedbegleitung\, Schlag- und Zupftechniken zu Lieblingssongs.\nGitarren sind vorhanden und können gegen Kaution entliehen werden. \nMontags\, Mittwochs und Freitags ab 16:00 Uhr\nKursleitung: Markus Haußmann\nPreis nach Absprache\nAnmeldung unter 030 611 33 98\nRaum: Spreewaldplatz
URL:https://familienzentrum-wrangelkiez.de/veranstaltung/gitarrenkurs/2026-06-01/
LOCATION:Kiezanker 36\, Cuvrystr. 13/14\, Berlin\, 10997\, Deutschland
CATEGORIES:Bildung,Familie & Kinder,Kunst & Handwerk
ATTACH;FMTTYPE=image/jpeg:https://familienzentrum-wrangelkiez.de/wp-content/uploads/2017/01/Gitarrenunterricht.jpg
GEO:52.49872;13.44403
X-APPLE-STRUCTURED-LOCATION;VALUE=URI;X-ADDRESS=Kiezanker 36 Cuvrystr. 13/14 Berlin 10997 Deutschland;X-APPLE-RADIUS=500;X-TITLE=Cuvrystr. 13/14:geo:13.44403,52.49872
END:VEVENT
BEGIN:VEVENT
DTSTART;TZID=Europe/Berlin:20260603T170000
DTEND;TZID=Europe/Berlin:20260603T200000
DTSTAMP:20260424T170233
CREATED:20250624T140349Z
LAST-MODIFIED:20250624T141950Z
UID:10052460-1780506000-1780516800@familienzentrum-wrangelkiez.de
SUMMARY:Gitarrenkurs
DESCRIPTION:Der Gitarrenunterricht findet an drei Nachmittagen statt.\nTeilnehmer lernen Liedbegleitung\, Schlag- und Zupftechniken zu Lieblingssongs.\nGitarren sind vorhanden und können gegen Kaution entliehen werden. \nMontags\, Mittwochs und Freitags ab 16:00 Uhr\nKursleitung: Markus Haußmann\nPreis nach Absprache\nAnmeldung unter 030 611 33 98\nRaum: Spreewaldplatz
URL:https://familienzentrum-wrangelkiez.de/veranstaltung/gitarrenkurs/2026-06-03/
LOCATION:Kiezanker 36\, Cuvrystr. 13/14\, Berlin\, 10997\, Deutschland
CATEGORIES:Bildung,Familie & Kinder,Kunst & Handwerk
ATTACH;FMTTYPE=image/jpeg:https://familienzentrum-wrangelkiez.de/wp-content/uploads/2017/01/Gitarrenunterricht.jpg
GEO:52.49872;13.44403
X-APPLE-STRUCTURED-LOCATION;VALUE=URI;X-ADDRESS=Kiezanker 36 Cuvrystr. 13/14 Berlin 10997 Deutschland;X-APPLE-RADIUS=500;X-TITLE=Cuvrystr. 13/14:geo:13.44403,52.49872
END:VEVENT
BEGIN:VEVENT
DTSTART;TZID=Europe/Berlin:20260605T170000
DTEND;TZID=Europe/Berlin:20260605T200000
DTSTAMP:20260424T170233
CREATED:20250624T140349Z
LAST-MODIFIED:20250624T141950Z
UID:10052461-1780678800-1780689600@familienzentrum-wrangelkiez.de
SUMMARY:Gitarrenkurs
DESCRIPTION:Der Gitarrenunterricht findet an drei Nachmittagen statt.\nTeilnehmer lernen Liedbegleitung\, Schlag- und Zupftechniken zu Lieblingssongs.\nGitarren sind vorhanden und können gegen Kaution entliehen werden. \nMontags\, Mittwochs und Freitags ab 16:00 Uhr\nKursleitung: Markus Haußmann\nPreis nach Absprache\nAnmeldung unter 030 611 33 98\nRaum: Spreewaldplatz
URL:https://familienzentrum-wrangelkiez.de/veranstaltung/gitarrenkurs/2026-06-05/
LOCATION:Kiezanker 36\, Cuvrystr. 13/14\, Berlin\, 10997\, Deutschland
CATEGORIES:Bildung,Familie & Kinder,Kunst & Handwerk
ATTACH;FMTTYPE=image/jpeg:https://familienzentrum-wrangelkiez.de/wp-content/uploads/2017/01/Gitarrenunterricht.jpg
GEO:52.49872;13.44403
X-APPLE-STRUCTURED-LOCATION;VALUE=URI;X-ADDRESS=Kiezanker 36 Cuvrystr. 13/14 Berlin 10997 Deutschland;X-APPLE-RADIUS=500;X-TITLE=Cuvrystr. 13/14:geo:13.44403,52.49872
END:VEVENT
BEGIN:VEVENT
DTSTART;TZID=Europe/Berlin:20260608T170000
DTEND;TZID=Europe/Berlin:20260608T200000
DTSTAMP:20260424T170233
CREATED:20250624T140349Z
LAST-MODIFIED:20250624T141950Z
UID:10052462-1780938000-1780948800@familienzentrum-wrangelkiez.de
SUMMARY:Gitarrenkurs
DESCRIPTION:Der Gitarrenunterricht findet an drei Nachmittagen statt.\nTeilnehmer lernen Liedbegleitung\, Schlag- und Zupftechniken zu Lieblingssongs.\nGitarren sind vorhanden und können gegen Kaution entliehen werden. \nMontags\, Mittwochs und Freitags ab 16:00 Uhr\nKursleitung: Markus Haußmann\nPreis nach Absprache\nAnmeldung unter 030 611 33 98\nRaum: Spreewaldplatz
URL:https://familienzentrum-wrangelkiez.de/veranstaltung/gitarrenkurs/2026-06-08/
LOCATION:Kiezanker 36\, Cuvrystr. 13/14\, Berlin\, 10997\, Deutschland
CATEGORIES:Bildung,Familie & Kinder,Kunst & Handwerk
ATTACH;FMTTYPE=image/jpeg:https://familienzentrum-wrangelkiez.de/wp-content/uploads/2017/01/Gitarrenunterricht.jpg
GEO:52.49872;13.44403
X-APPLE-STRUCTURED-LOCATION;VALUE=URI;X-ADDRESS=Kiezanker 36 Cuvrystr. 13/14 Berlin 10997 Deutschland;X-APPLE-RADIUS=500;X-TITLE=Cuvrystr. 13/14:geo:13.44403,52.49872
END:VEVENT
BEGIN:VEVENT
DTSTART;TZID=Europe/Berlin:20260610T170000
DTEND;TZID=Europe/Berlin:20260610T200000
DTSTAMP:20260424T170233
CREATED:20250624T140349Z
LAST-MODIFIED:20250624T141950Z
UID:10052463-1781110800-1781121600@familienzentrum-wrangelkiez.de
SUMMARY:Gitarrenkurs
DESCRIPTION:Der Gitarrenunterricht findet an drei Nachmittagen statt.\nTeilnehmer lernen Liedbegleitung\, Schlag- und Zupftechniken zu Lieblingssongs.\nGitarren sind vorhanden und können gegen Kaution entliehen werden. \nMontags\, Mittwochs und Freitags ab 16:00 Uhr\nKursleitung: Markus Haußmann\nPreis nach Absprache\nAnmeldung unter 030 611 33 98\nRaum: Spreewaldplatz
URL:https://familienzentrum-wrangelkiez.de/veranstaltung/gitarrenkurs/2026-06-10/
LOCATION:Kiezanker 36\, Cuvrystr. 13/14\, Berlin\, 10997\, Deutschland
CATEGORIES:Bildung,Familie & Kinder,Kunst & Handwerk
ATTACH;FMTTYPE=image/jpeg:https://familienzentrum-wrangelkiez.de/wp-content/uploads/2017/01/Gitarrenunterricht.jpg
GEO:52.49872;13.44403
X-APPLE-STRUCTURED-LOCATION;VALUE=URI;X-ADDRESS=Kiezanker 36 Cuvrystr. 13/14 Berlin 10997 Deutschland;X-APPLE-RADIUS=500;X-TITLE=Cuvrystr. 13/14:geo:13.44403,52.49872
END:VEVENT
BEGIN:VEVENT
DTSTART;TZID=Europe/Berlin:20260612T170000
DTEND;TZID=Europe/Berlin:20260612T200000
DTSTAMP:20260424T170233
CREATED:20250624T140349Z
LAST-MODIFIED:20250624T141950Z
UID:10052464-1781283600-1781294400@familienzentrum-wrangelkiez.de
SUMMARY:Gitarrenkurs
DESCRIPTION:Der Gitarrenunterricht findet an drei Nachmittagen statt.\nTeilnehmer lernen Liedbegleitung\, Schlag- und Zupftechniken zu Lieblingssongs.\nGitarren sind vorhanden und können gegen Kaution entliehen werden. \nMontags\, Mittwochs und Freitags ab 16:00 Uhr\nKursleitung: Markus Haußmann\nPreis nach Absprache\nAnmeldung unter 030 611 33 98\nRaum: Spreewaldplatz
URL:https://familienzentrum-wrangelkiez.de/veranstaltung/gitarrenkurs/2026-06-12/
LOCATION:Kiezanker 36\, Cuvrystr. 13/14\, Berlin\, 10997\, Deutschland
CATEGORIES:Bildung,Familie & Kinder,Kunst & Handwerk
ATTACH;FMTTYPE=image/jpeg:https://familienzentrum-wrangelkiez.de/wp-content/uploads/2017/01/Gitarrenunterricht.jpg
GEO:52.49872;13.44403
X-APPLE-STRUCTURED-LOCATION;VALUE=URI;X-ADDRESS=Kiezanker 36 Cuvrystr. 13/14 Berlin 10997 Deutschland;X-APPLE-RADIUS=500;X-TITLE=Cuvrystr. 13/14:geo:13.44403,52.49872
END:VEVENT
BEGIN:VEVENT
DTSTART;TZID=Europe/Berlin:20260615T170000
DTEND;TZID=Europe/Berlin:20260615T200000
DTSTAMP:20260424T170233
CREATED:20250624T140349Z
LAST-MODIFIED:20250624T141950Z
UID:10052465-1781542800-1781553600@familienzentrum-wrangelkiez.de
SUMMARY:Gitarrenkurs
DESCRIPTION:Der Gitarrenunterricht findet an drei Nachmittagen statt.\nTeilnehmer lernen Liedbegleitung\, Schlag- und Zupftechniken zu Lieblingssongs.\nGitarren sind vorhanden und können gegen Kaution entliehen werden. \nMontags\, Mittwochs und Freitags ab 16:00 Uhr\nKursleitung: Markus Haußmann\nPreis nach Absprache\nAnmeldung unter 030 611 33 98\nRaum: Spreewaldplatz
URL:https://familienzentrum-wrangelkiez.de/veranstaltung/gitarrenkurs/2026-06-15/
LOCATION:Kiezanker 36\, Cuvrystr. 13/14\, Berlin\, 10997\, Deutschland
CATEGORIES:Bildung,Familie & Kinder,Kunst & Handwerk
ATTACH;FMTTYPE=image/jpeg:https://familienzentrum-wrangelkiez.de/wp-content/uploads/2017/01/Gitarrenunterricht.jpg
GEO:52.49872;13.44403
X-APPLE-STRUCTURED-LOCATION;VALUE=URI;X-ADDRESS=Kiezanker 36 Cuvrystr. 13/14 Berlin 10997 Deutschland;X-APPLE-RADIUS=500;X-TITLE=Cuvrystr. 13/14:geo:13.44403,52.49872
END:VEVENT
BEGIN:VEVENT
DTSTART;TZID=Europe/Berlin:20260617T170000
DTEND;TZID=Europe/Berlin:20260617T200000
DTSTAMP:20260424T170233
CREATED:20250624T140349Z
LAST-MODIFIED:20250624T141950Z
UID:10052466-1781715600-1781726400@familienzentrum-wrangelkiez.de
SUMMARY:Gitarrenkurs
DESCRIPTION:Der Gitarrenunterricht findet an drei Nachmittagen statt.\nTeilnehmer lernen Liedbegleitung\, Schlag- und Zupftechniken zu Lieblingssongs.\nGitarren sind vorhanden und können gegen Kaution entliehen werden. \nMontags\, Mittwochs und Freitags ab 16:00 Uhr\nKursleitung: Markus Haußmann\nPreis nach Absprache\nAnmeldung unter 030 611 33 98\nRaum: Spreewaldplatz
URL:https://familienzentrum-wrangelkiez.de/veranstaltung/gitarrenkurs/2026-06-17/
LOCATION:Kiezanker 36\, Cuvrystr. 13/14\, Berlin\, 10997\, Deutschland
CATEGORIES:Bildung,Familie & Kinder,Kunst & Handwerk
ATTACH;FMTTYPE=image/jpeg:https://familienzentrum-wrangelkiez.de/wp-content/uploads/2017/01/Gitarrenunterricht.jpg
GEO:52.49872;13.44403
X-APPLE-STRUCTURED-LOCATION;VALUE=URI;X-ADDRESS=Kiezanker 36 Cuvrystr. 13/14 Berlin 10997 Deutschland;X-APPLE-RADIUS=500;X-TITLE=Cuvrystr. 13/14:geo:13.44403,52.49872
END:VEVENT
BEGIN:VEVENT
DTSTART;TZID=Europe/Berlin:20260619T170000
DTEND;TZID=Europe/Berlin:20260619T200000
DTSTAMP:20260424T170233
CREATED:20250624T140349Z
LAST-MODIFIED:20250624T141950Z
UID:10052467-1781888400-1781899200@familienzentrum-wrangelkiez.de
SUMMARY:Gitarrenkurs
DESCRIPTION:Der Gitarrenunterricht findet an drei Nachmittagen statt.\nTeilnehmer lernen Liedbegleitung\, Schlag- und Zupftechniken zu Lieblingssongs.\nGitarren sind vorhanden und können gegen Kaution entliehen werden. \nMontags\, Mittwochs und Freitags ab 16:00 Uhr\nKursleitung: Markus Haußmann\nPreis nach Absprache\nAnmeldung unter 030 611 33 98\nRaum: Spreewaldplatz
URL:https://familienzentrum-wrangelkiez.de/veranstaltung/gitarrenkurs/2026-06-19/
LOCATION:Kiezanker 36\, Cuvrystr. 13/14\, Berlin\, 10997\, Deutschland
CATEGORIES:Bildung,Familie & Kinder,Kunst & Handwerk
ATTACH;FMTTYPE=image/jpeg:https://familienzentrum-wrangelkiez.de/wp-content/uploads/2017/01/Gitarrenunterricht.jpg
GEO:52.49872;13.44403
X-APPLE-STRUCTURED-LOCATION;VALUE=URI;X-ADDRESS=Kiezanker 36 Cuvrystr. 13/14 Berlin 10997 Deutschland;X-APPLE-RADIUS=500;X-TITLE=Cuvrystr. 13/14:geo:13.44403,52.49872
END:VEVENT
BEGIN:VEVENT
DTSTART;TZID=Europe/Berlin:20260622T170000
DTEND;TZID=Europe/Berlin:20260622T200000
DTSTAMP:20260424T170233
CREATED:20250624T140349Z
LAST-MODIFIED:20250624T141950Z
UID:10052468-1782147600-1782158400@familienzentrum-wrangelkiez.de
SUMMARY:Gitarrenkurs
DESCRIPTION:Der Gitarrenunterricht findet an drei Nachmittagen statt.\nTeilnehmer lernen Liedbegleitung\, Schlag- und Zupftechniken zu Lieblingssongs.\nGitarren sind vorhanden und können gegen Kaution entliehen werden. \nMontags\, Mittwochs und Freitags ab 16:00 Uhr\nKursleitung: Markus Haußmann\nPreis nach Absprache\nAnmeldung unter 030 611 33 98\nRaum: Spreewaldplatz
URL:https://familienzentrum-wrangelkiez.de/veranstaltung/gitarrenkurs/2026-06-22/
LOCATION:Kiezanker 36\, Cuvrystr. 13/14\, Berlin\, 10997\, Deutschland
CATEGORIES:Bildung,Familie & Kinder,Kunst & Handwerk
ATTACH;FMTTYPE=image/jpeg:https://familienzentrum-wrangelkiez.de/wp-content/uploads/2017/01/Gitarrenunterricht.jpg
GEO:52.49872;13.44403
X-APPLE-STRUCTURED-LOCATION;VALUE=URI;X-ADDRESS=Kiezanker 36 Cuvrystr. 13/14 Berlin 10997 Deutschland;X-APPLE-RADIUS=500;X-TITLE=Cuvrystr. 13/14:geo:13.44403,52.49872
END:VEVENT
BEGIN:VEVENT
DTSTART;TZID=Europe/Berlin:20260624T170000
DTEND;TZID=Europe/Berlin:20260624T200000
DTSTAMP:20260424T170233
CREATED:20250624T140349Z
LAST-MODIFIED:20250624T141950Z
UID:10052469-1782320400-1782331200@familienzentrum-wrangelkiez.de
SUMMARY:Gitarrenkurs
DESCRIPTION:Der Gitarrenunterricht findet an drei Nachmittagen statt.\nTeilnehmer lernen Liedbegleitung\, Schlag- und Zupftechniken zu Lieblingssongs.\nGitarren sind vorhanden und können gegen Kaution entliehen werden. \nMontags\, Mittwochs und Freitags ab 16:00 Uhr\nKursleitung: Markus Haußmann\nPreis nach Absprache\nAnmeldung unter 030 611 33 98\nRaum: Spreewaldplatz
URL:https://familienzentrum-wrangelkiez.de/veranstaltung/gitarrenkurs/2026-06-24/
LOCATION:Kiezanker 36\, Cuvrystr. 13/14\, Berlin\, 10997\, Deutschland
CATEGORIES:Bildung,Familie & Kinder,Kunst & Handwerk
ATTACH;FMTTYPE=image/jpeg:https://familienzentrum-wrangelkiez.de/wp-content/uploads/2017/01/Gitarrenunterricht.jpg
GEO:52.49872;13.44403
X-APPLE-STRUCTURED-LOCATION;VALUE=URI;X-ADDRESS=Kiezanker 36 Cuvrystr. 13/14 Berlin 10997 Deutschland;X-APPLE-RADIUS=500;X-TITLE=Cuvrystr. 13/14:geo:13.44403,52.49872
END:VEVENT
BEGIN:VEVENT
DTSTART;TZID=Europe/Berlin:20260626T170000
DTEND;TZID=Europe/Berlin:20260626T200000
DTSTAMP:20260424T170233
CREATED:20250624T140349Z
LAST-MODIFIED:20250624T141950Z
UID:10052470-1782493200-1782504000@familienzentrum-wrangelkiez.de
SUMMARY:Gitarrenkurs
DESCRIPTION:Der Gitarrenunterricht findet an drei Nachmittagen statt.\nTeilnehmer lernen Liedbegleitung\, Schlag- und Zupftechniken zu Lieblingssongs.\nGitarren sind vorhanden und können gegen Kaution entliehen werden. \nMontags\, Mittwochs und Freitags ab 16:00 Uhr\nKursleitung: Markus Haußmann\nPreis nach Absprache\nAnmeldung unter 030 611 33 98\nRaum: Spreewaldplatz
URL:https://familienzentrum-wrangelkiez.de/veranstaltung/gitarrenkurs/2026-06-26/
LOCATION:Kiezanker 36\, Cuvrystr. 13/14\, Berlin\, 10997\, Deutschland
CATEGORIES:Bildung,Familie & Kinder,Kunst & Handwerk
ATTACH;FMTTYPE=image/jpeg:https://familienzentrum-wrangelkiez.de/wp-content/uploads/2017/01/Gitarrenunterricht.jpg
GEO:52.49872;13.44403
X-APPLE-STRUCTURED-LOCATION;VALUE=URI;X-ADDRESS=Kiezanker 36 Cuvrystr. 13/14 Berlin 10997 Deutschland;X-APPLE-RADIUS=500;X-TITLE=Cuvrystr. 13/14:geo:13.44403,52.49872
END:VEVENT
BEGIN:VEVENT
DTSTART;TZID=Europe/Berlin:20260629T170000
DTEND;TZID=Europe/Berlin:20260629T200000
DTSTAMP:20260424T170233
CREATED:20250624T140349Z
LAST-MODIFIED:20250624T141950Z
UID:10052471-1782752400-1782763200@familienzentrum-wrangelkiez.de
SUMMARY:Gitarrenkurs
DESCRIPTION:Der Gitarrenunterricht findet an drei Nachmittagen statt.\nTeilnehmer lernen Liedbegleitung\, Schlag- und Zupftechniken zu Lieblingssongs.\nGitarren sind vorhanden und können gegen Kaution entliehen werden. \nMontags\, Mittwochs und Freitags ab 16:00 Uhr\nKursleitung: Markus Haußmann\nPreis nach Absprache\nAnmeldung unter 030 611 33 98\nRaum: Spreewaldplatz
URL:https://familienzentrum-wrangelkiez.de/veranstaltung/gitarrenkurs/2026-06-29/
LOCATION:Kiezanker 36\, Cuvrystr. 13/14\, Berlin\, 10997\, Deutschland
CATEGORIES:Bildung,Familie & Kinder,Kunst & Handwerk
ATTACH;FMTTYPE=image/jpeg:https://familienzentrum-wrangelkiez.de/wp-content/uploads/2017/01/Gitarrenunterricht.jpg
GEO:52.49872;13.44403
X-APPLE-STRUCTURED-LOCATION;VALUE=URI;X-ADDRESS=Kiezanker 36 Cuvrystr. 13/14 Berlin 10997 Deutschland;X-APPLE-RADIUS=500;X-TITLE=Cuvrystr. 13/14:geo:13.44403,52.49872
END:VEVENT
END:VCALENDAR