BEGIN:VCALENDAR
VERSION:2.0
PRODID:-//Kiezanker 36 - ECPv6.15.20//NONSGML v1.0//EN
CALSCALE:GREGORIAN
METHOD:PUBLISH
X-ORIGINAL-URL:https://familienzentrum-wrangelkiez.de
X-WR-CALDESC:Veranstaltungen für Kiezanker 36
REFRESH-INTERVAL;VALUE=DURATION:PT1H
X-Robots-Tag:noindex
X-PUBLISHED-TTL:PT1H
BEGIN:VTIMEZONE
TZID:Europe/Berlin
BEGIN:DAYLIGHT
TZOFFSETFROM:+0100
TZOFFSETTO:+0200
TZNAME:CEST
DTSTART:20240331T010000
END:DAYLIGHT
BEGIN:STANDARD
TZOFFSETFROM:+0200
TZOFFSETTO:+0100
TZNAME:CET
DTSTART:20241027T010000
END:STANDARD
BEGIN:DAYLIGHT
TZOFFSETFROM:+0100
TZOFFSETTO:+0200
TZNAME:CEST
DTSTART:20250330T010000
END:DAYLIGHT
BEGIN:STANDARD
TZOFFSETFROM:+0200
TZOFFSETTO:+0100
TZNAME:CET
DTSTART:20251026T010000
END:STANDARD
BEGIN:DAYLIGHT
TZOFFSETFROM:+0100
TZOFFSETTO:+0200
TZNAME:CEST
DTSTART:20260329T010000
END:DAYLIGHT
BEGIN:STANDARD
TZOFFSETFROM:+0200
TZOFFSETTO:+0100
TZNAME:CET
DTSTART:20261025T010000
END:STANDARD
END:VTIMEZONE
BEGIN:VEVENT
DTSTART;TZID=Europe/Berlin:20251009T100000
DTEND;TZID=Europe/Berlin:20251009T113000
DTSTAMP:20260424T170641
CREATED:20250908T115026Z
LAST-MODIFIED:20250908T115316Z
UID:10052926-1760004000-1760009400@familienzentrum-wrangelkiez.de
SUMMARY:Neuer Babymassage-Kurs ab Do.\, 09.10.2025
DESCRIPTION:Bei der Babymassage haben Eltern die Möglichkeit eine intensive Zeit mit ihrem Baby zu erleben und durch liebevolle Berührungen ihre Bindung zu stärken. \nSie erlernen Massagegriffe für jedes Körperteil inkl. Gesicht\, sowie die Kolikmassage bei unruhigem Bäuchlein. Babymassage fördert das Körperbewusstsein und nimmt positiven Einfluss auf die körperliche und geistige Entwicklung des Kindes. \nKursleitung: Gülsüm Aydin \nDonnerstags 10.00 Uhr \n5 Termine á 60 – 90 Minuten auf Spendenbasis\, vom 09.10. – 06.11.2025. \nAnmeldung: guelsuem.aydin@pfh-berlin.de \nWir gehören der „internationalen Gesellschaft für Babymassage“ an.
URL:https://familienzentrum-wrangelkiez.de/veranstaltung/neuer-babymassage-kurs-ab-do-12-09-2024-2-2/2025-10-09/
LOCATION:Kiezanker 36\, Cuvrystr. 13/14\, Berlin\, 10997\, Deutschland
ATTACH;FMTTYPE=image/jpeg:https://familienzentrum-wrangelkiez.de/wp-content/uploads/2022/10/1-624x443-1.jpg
GEO:52.49872;13.44403
X-APPLE-STRUCTURED-LOCATION;VALUE=URI;X-ADDRESS=Kiezanker 36 Cuvrystr. 13/14 Berlin 10997 Deutschland;X-APPLE-RADIUS=500;X-TITLE=Cuvrystr. 13/14:geo:13.44403,52.49872
END:VEVENT
END:VCALENDAR