BEGIN:VCALENDAR
VERSION:2.0
PRODID:-//Kiezanker 36 - ECPv6.15.20//NONSGML v1.0//EN
CALSCALE:GREGORIAN
METHOD:PUBLISH
X-ORIGINAL-URL:https://familienzentrum-wrangelkiez.de
X-WR-CALDESC:Veranstaltungen für Kiezanker 36
REFRESH-INTERVAL;VALUE=DURATION:PT1H
X-Robots-Tag:noindex
X-PUBLISHED-TTL:PT1H
BEGIN:VTIMEZONE
TZID:Europe/Berlin
BEGIN:DAYLIGHT
TZOFFSETFROM:+0100
TZOFFSETTO:+0200
TZNAME:CEST
DTSTART:20240331T010000
END:DAYLIGHT
BEGIN:STANDARD
TZOFFSETFROM:+0200
TZOFFSETTO:+0100
TZNAME:CET
DTSTART:20241027T010000
END:STANDARD
BEGIN:DAYLIGHT
TZOFFSETFROM:+0100
TZOFFSETTO:+0200
TZNAME:CEST
DTSTART:20250330T010000
END:DAYLIGHT
BEGIN:STANDARD
TZOFFSETFROM:+0200
TZOFFSETTO:+0100
TZNAME:CET
DTSTART:20251026T010000
END:STANDARD
BEGIN:DAYLIGHT
TZOFFSETFROM:+0100
TZOFFSETTO:+0200
TZNAME:CEST
DTSTART:20260329T010000
END:DAYLIGHT
BEGIN:STANDARD
TZOFFSETFROM:+0200
TZOFFSETTO:+0100
TZNAME:CET
DTSTART:20261025T010000
END:STANDARD
END:VTIMEZONE
BEGIN:VEVENT
DTSTART;TZID=Europe/Berlin:20251010T180000
DTEND;TZID=Europe/Berlin:20251010T220000
DTSTAMP:20260422T032432
CREATED:20251003T022055Z
LAST-MODIFIED:20251003T022055Z
UID:10052982-1760119200-1760133600@familienzentrum-wrangelkiez.de
SUMMARY:10-Jahres Jubiläums-Gala am 10.10.2025\, ab 18 Uhr im KiezAnker36-Café
DESCRIPTION:Happy Birthday Kiezanker! Am Freitag\, dem 10.10.2025\nDer Anker feiert seinen 10. Geburtstag – und wir freuen uns darauf\, dieses Ereignis mit Dir zusammen zu begehen!\nWir blicken ganz kurz zurück auf unsere Eröffnungsfeier 2015\, und auf alle Ideen und Wünsche\, die an das damals frisch sanierte und noch etwas spartanisch eingerichtete Haus herangetragen wurden. Danach folgt ein buntes Unterhaltungsprogramm\, vielfältig und eigenwillig wie der gesamte Kiez.\nZu unserer Geburtstags-Gala erwarten wir Dich in Pomp und Glamour\, denn\, wie schon Marylin Monroe sagte: „Wir sind alle Stars und verdienen es zu funkeln.“!\nDein Kiezankerteam
URL:https://familienzentrum-wrangelkiez.de/veranstaltung/10-jahres-jubilaeums-gala-am-10-10-2025-ab-18-uhr-im-kiezanker36-cafe/
LOCATION:Kiezanker 36 – Cafe
CATEGORIES:Begegnung & Nachbarschaft,Erwachsene,Familie & Kinder,Kiez
ATTACH;FMTTYPE=image/jpeg:https://familienzentrum-wrangelkiez.de/wp-content/uploads/2025/09/25-10-10_KiezA-Gala-10Jahresfeier-18Uhr_akt.jpg
END:VEVENT
END:VCALENDAR