BEGIN:VCALENDAR
VERSION:2.0
PRODID:-//Kiezanker 36 - ECPv6.15.20//NONSGML v1.0//EN
CALSCALE:GREGORIAN
METHOD:PUBLISH
X-ORIGINAL-URL:https://familienzentrum-wrangelkiez.de
X-WR-CALDESC:Veranstaltungen für Kiezanker 36
REFRESH-INTERVAL;VALUE=DURATION:PT1H
X-Robots-Tag:noindex
X-PUBLISHED-TTL:PT1H
BEGIN:VTIMEZONE
TZID:Europe/Berlin
BEGIN:DAYLIGHT
TZOFFSETFROM:+0100
TZOFFSETTO:+0200
TZNAME:CEST
DTSTART:20300331T010000
END:DAYLIGHT
BEGIN:STANDARD
TZOFFSETFROM:+0200
TZOFFSETTO:+0100
TZNAME:CET
DTSTART:20301027T010000
END:STANDARD
BEGIN:DAYLIGHT
TZOFFSETFROM:+0100
TZOFFSETTO:+0200
TZNAME:CEST
DTSTART:20310330T010000
END:DAYLIGHT
BEGIN:STANDARD
TZOFFSETFROM:+0200
TZOFFSETTO:+0100
TZNAME:CET
DTSTART:20311026T010000
END:STANDARD
BEGIN:DAYLIGHT
TZOFFSETFROM:+0100
TZOFFSETTO:+0200
TZNAME:CEST
DTSTART:20320328T010000
END:DAYLIGHT
BEGIN:STANDARD
TZOFFSETFROM:+0200
TZOFFSETTO:+0100
TZNAME:CET
DTSTART:20321031T010000
END:STANDARD
END:VTIMEZONE
BEGIN:VEVENT
DTSTART;TZID=Europe/Berlin:20310313T150000
DTEND;TZID=Europe/Berlin:20310313T160000
DTSTAMP:20260424T224802
CREATED:20250313T152012Z
LAST-MODIFIED:20250313T152012Z
UID:10053800-1931180400-1931184000@familienzentrum-wrangelkiez.de
SUMMARY:Zusammen aufwachsen
DESCRIPTION:Wir wollen gerne eine feste Gruppe für Kinder zwischen 6 Monaten und 1\,5 Jahren anbieten und gemeinsam Wege finden\, „Zusammen aufwachsen“ möglich zu machen\, ob in einer gestalteten Bewegungslandschaft oder im Wald\, Hauptsache nicht online.\nKinder sollen die Möglichkeit haben Kontakt zu anderen Kindern aufzunehmen und Eltern sollten die Möglichkeit haben andere Eltern kennenzulernen und sich auszutauschen. \nWann: Donnerstags von 15:00 – 16:00 Uhr  – !auf Spendenbasis! – \nAnmeldung unter 030/22502403 oder carolin.loewe@pfh-berlin.de \n 
URL:https://familienzentrum-wrangelkiez.de/veranstaltung/zusammen-aufwachsen/2031-03-13/
ATTACH;FMTTYPE=image/jpeg:https://familienzentrum-wrangelkiez.de/wp-content/uploads/2021/09/Zusammen-aufwachsen_1-1-scaled-e1632250550682.jpg
END:VEVENT
BEGIN:VEVENT
DTSTART;TZID=Europe/Berlin:20310313T190000
DTEND;TZID=Europe/Berlin:20310313T210000
DTSTAMP:20260424T224802
CREATED:20220923T112710Z
LAST-MODIFIED:20221031T134033Z
UID:10053720-1931194800-1931202000@familienzentrum-wrangelkiez.de
SUMMARY:Salon Graubunt 60+
DESCRIPTION:ErwDas sind wir: eine Gruppe\, entstanden im Nachbarschaftszentrum Wrangelkiez.\nWir sind im Unruhe-Stand\, haben Fragen\, auch Visionen\, neugierig auf dich\, wollen uns austauschen.\nWas im Salon passiert? Das bestimmen die\, die kommen. \nAlt werden geht gar nicht….aber wenn doch? \nOrt: Café\njeden zweiten Donnerstag von 19:00 – 21:00 Uhr
URL:https://familienzentrum-wrangelkiez.de/veranstaltung/salon-graubunt-60/2031-03-13/
CATEGORIES:Begegnung & Nachbarschaft,Erwachsene
ATTACH;FMTTYPE=image/jpeg:https://familienzentrum-wrangelkiez.de/wp-content/uploads/2022/09/360_F_19346489_OwXTVPIhBINioDSNjQuztqmNFdlxE9RT-e1663932270307.jpg
END:VEVENT
END:VCALENDAR