BEGIN:VCALENDAR
VERSION:2.0
PRODID:-//Kiezanker 36 - ECPv6.15.20//NONSGML v1.0//EN
CALSCALE:GREGORIAN
METHOD:PUBLISH
X-ORIGINAL-URL:https://familienzentrum-wrangelkiez.de
X-WR-CALDESC:Veranstaltungen für Kiezanker 36
REFRESH-INTERVAL;VALUE=DURATION:PT1H
X-Robots-Tag:noindex
X-PUBLISHED-TTL:PT1H
BEGIN:VTIMEZONE
TZID:Europe/Berlin
BEGIN:DAYLIGHT
TZOFFSETFROM:+0100
TZOFFSETTO:+0200
TZNAME:CEST
DTSTART:20300331T010000
END:DAYLIGHT
BEGIN:STANDARD
TZOFFSETFROM:+0200
TZOFFSETTO:+0100
TZNAME:CET
DTSTART:20301027T010000
END:STANDARD
BEGIN:DAYLIGHT
TZOFFSETFROM:+0100
TZOFFSETTO:+0200
TZNAME:CEST
DTSTART:20310330T010000
END:DAYLIGHT
BEGIN:STANDARD
TZOFFSETFROM:+0200
TZOFFSETTO:+0100
TZNAME:CET
DTSTART:20311026T010000
END:STANDARD
BEGIN:DAYLIGHT
TZOFFSETFROM:+0100
TZOFFSETTO:+0200
TZNAME:CEST
DTSTART:20320328T010000
END:DAYLIGHT
BEGIN:STANDARD
TZOFFSETFROM:+0200
TZOFFSETTO:+0100
TZNAME:CET
DTSTART:20321031T010000
END:STANDARD
END:VTIMEZONE
BEGIN:VEVENT
DTSTART;TZID=Europe/Berlin:20310217T183000
DTEND;TZID=Europe/Berlin:20310217T203000
DTSTAMP:20260424T211151
CREATED:20260305T170040Z
LAST-MODIFIED:20260305T171357Z
UID:10053434-1929119400-1929126600@familienzentrum-wrangelkiez.de
SUMMARY:Refugee Law Clinic
DESCRIPTION:Rechtsberatung für Geflüchtete\nKostenlose und unabhängige Rechtsberatung für migrierende\, geflüchtete und asylsuchende Personen in Berlin. \nDie Refugee Law Clinic Berlin e.V. ist ein Verein an der Humboldt-Universität zu Berlin.\nRefugee Law Clinic Berlin e.V. \nMontags von  18:30 – 20:30 Uhr im KiezAnker36.\nNachbarschafts- und Familienzentrum: Kiezanker36\, Cuvrystr. 13/14\, 10997 Berlin \nZuvor bitte einen Termin per Mail vereinbaren\nunter:  beratungWRANGEL@rlc-berlin.org \nWeitere Informationen: https://www.rlc-berlin.org/beratung \n  \nEnglish\n \nPro bono legal advice for refugees\nFree and independent legal advice for refugees and migrants in Berlin. \nThe Refugee Law Clinic Berlin e.V. is a student association at the Humboldt University of Berlin.\nRefugee Law Clinic Berlin e.V. \nMondays from 18:30 – 20:30 at KiezAnker36.\nNeighbourhood and family centre: Kiezanker36\, Cuvrystr. 13/14\, 10997 Berlin \nPlease make an appointment in advance by email\nat: beratungWRANGEL@rlc-berlin.org \nFurther information: https://www.rlc-berlin.org/beratung
URL:https://familienzentrum-wrangelkiez.de/veranstaltung/refugee-law-clinic-3-2/2031-02-17/
ATTACH;FMTTYPE=image/webp:https://familienzentrum-wrangelkiez.de/wp-content/uploads/2024/03/RLC_Berlin_Logo.webp
END:VEVENT
END:VCALENDAR