BEGIN:VCALENDAR
VERSION:2.0
PRODID:-//Kiezanker 36 - ECPv6.15.20//NONSGML v1.0//EN
CALSCALE:GREGORIAN
METHOD:PUBLISH
X-WR-CALNAME:Kiezanker 36
X-ORIGINAL-URL:https://familienzentrum-wrangelkiez.de
X-WR-CALDESC:Veranstaltungen für Kiezanker 36
REFRESH-INTERVAL;VALUE=DURATION:PT1H
X-Robots-Tag:noindex
X-PUBLISHED-TTL:PT1H
BEGIN:VTIMEZONE
TZID:Europe/Berlin
BEGIN:DAYLIGHT
TZOFFSETFROM:+0100
TZOFFSETTO:+0200
TZNAME:CEST
DTSTART:20250330T010000
END:DAYLIGHT
BEGIN:STANDARD
TZOFFSETFROM:+0200
TZOFFSETTO:+0100
TZNAME:CET
DTSTART:20251026T010000
END:STANDARD
BEGIN:DAYLIGHT
TZOFFSETFROM:+0100
TZOFFSETTO:+0200
TZNAME:CEST
DTSTART:20260329T010000
END:DAYLIGHT
BEGIN:STANDARD
TZOFFSETFROM:+0200
TZOFFSETTO:+0100
TZNAME:CET
DTSTART:20261025T010000
END:STANDARD
BEGIN:DAYLIGHT
TZOFFSETFROM:+0100
TZOFFSETTO:+0200
TZNAME:CEST
DTSTART:20270328T010000
END:DAYLIGHT
BEGIN:STANDARD
TZOFFSETFROM:+0200
TZOFFSETTO:+0100
TZNAME:CET
DTSTART:20271031T010000
END:STANDARD
END:VTIMEZONE
BEGIN:VEVENT
DTSTART;TZID=Europe/Berlin:20260922T100000
DTEND;TZID=Europe/Berlin:20260922T113000
DTSTAMP:20260421T065243
CREATED:20210921T183950Z
LAST-MODIFIED:20221031T133331Z
UID:10006492-1790071200-1790076600@familienzentrum-wrangelkiez.de
SUMMARY:Griffbereit
DESCRIPTION:Wir möchten Euch einladen immer dienstags von 10:00 bis 12:00 Uhr unser „Griffbereit“-Angebot zu besuchen. Es handelt sich um eine deutsch-türkischsprachige Spielgruppe für Kinder von 1-3 Jahren gemeinsam mit ihren Eltern. \n„Griffbereit“\, spielen mit Farben.\nIn der zweisprachigen Spielgruppe „Griffbereit“ wird unter Anleitung von ausgebildeten Pädagogen\, die deutsch und türkisch sprechen mit den Kleinsten gespielt\, gesungen und gelacht.\nDabei werden sie gezielt in ihrer Muttersprache gestärkt und für eine Zweitsprache sensibilisiert.\nBei einem gemeinsamen Snack im Anschluss können sich Eltern über diverse Themen austauschen und zusammen mit den Pädagogen ihre Fragen zu Themen wie Erziehung\, frühkindliche Entwicklung- und Förderung klären. \nBei Bedarf werden Experten eingeladen\, die Fragen zu Gesundheit\, Übergang zur Kita/ Eingewöhnung etc. beantworten. \nAuch gemeinsame Ausflüge stehen auf dem Programm.
URL:https://familienzentrum-wrangelkiez.de/veranstaltung/griffbereit-2/2026-09-22/
LOCATION:Kiezanker 36\, Cuvrystr. 13/14\, Berlin\, 10997\, Deutschland
CATEGORIES:Bildung,Familie & Kinder
ATTACH;FMTTYPE=image/jpeg:https://familienzentrum-wrangelkiez.de/wp-content/uploads/2021/09/IMG_9045-scaled-e1649255665989.jpg
GEO:52.49872;13.44403
X-APPLE-STRUCTURED-LOCATION;VALUE=URI;X-ADDRESS=Kiezanker 36 Cuvrystr. 13/14 Berlin 10997 Deutschland;X-APPLE-RADIUS=500;X-TITLE=Cuvrystr. 13/14:geo:13.44403,52.49872
END:VEVENT
BEGIN:VEVENT
DTSTART;TZID=Europe/Berlin:20260922T160000
DTEND;TZID=Europe/Berlin:20260922T170000
DTSTAMP:20260421T065243
CREATED:20240402T180353Z
LAST-MODIFIED:20240402T180557Z
UID:10009189-1790092800-1790096400@familienzentrum-wrangelkiez.de
SUMMARY:Ballett für Kinder ab 3 Jahren
DESCRIPTION:Ausgebildete Tänzerin gibt entspannte Ballettstunden für Kinder. \nKursleitung: Guiselt Thaiz\nKosten: nach Absprache\nAnmeldung: guiselt.thaiz@gmail.com\nRaum: Oppelner / Bällebad
URL:https://familienzentrum-wrangelkiez.de/veranstaltung/ballett-fuer-kinder-ab-3-jahren-2/2026-09-22/
CATEGORIES:Familie & Kinder,Gesundheit & Bewegung
ATTACH;FMTTYPE=image/jpeg:https://familienzentrum-wrangelkiez.de/wp-content/uploads/2019/08/IMG_3217-1.jpg
END:VEVENT
END:VCALENDAR