BEGIN:VCALENDAR
VERSION:2.0
PRODID:-//Kiezanker 36 - ECPv6.15.20//NONSGML v1.0//EN
CALSCALE:GREGORIAN
METHOD:PUBLISH
X-ORIGINAL-URL:https://familienzentrum-wrangelkiez.de
X-WR-CALDESC:Veranstaltungen für Kiezanker 36
REFRESH-INTERVAL;VALUE=DURATION:PT1H
X-Robots-Tag:noindex
X-PUBLISHED-TTL:PT1H
BEGIN:VTIMEZONE
TZID:Europe/Berlin
BEGIN:DAYLIGHT
TZOFFSETFROM:+0100
TZOFFSETTO:+0200
TZNAME:CEST
DTSTART:20250330T010000
END:DAYLIGHT
BEGIN:STANDARD
TZOFFSETFROM:+0200
TZOFFSETTO:+0100
TZNAME:CET
DTSTART:20251026T010000
END:STANDARD
BEGIN:DAYLIGHT
TZOFFSETFROM:+0100
TZOFFSETTO:+0200
TZNAME:CEST
DTSTART:20260329T010000
END:DAYLIGHT
BEGIN:STANDARD
TZOFFSETFROM:+0200
TZOFFSETTO:+0100
TZNAME:CET
DTSTART:20261025T010000
END:STANDARD
BEGIN:DAYLIGHT
TZOFFSETFROM:+0100
TZOFFSETTO:+0200
TZNAME:CEST
DTSTART:20270328T010000
END:DAYLIGHT
BEGIN:STANDARD
TZOFFSETFROM:+0200
TZOFFSETTO:+0100
TZNAME:CET
DTSTART:20271031T010000
END:STANDARD
END:VTIMEZONE
BEGIN:VEVENT
DTSTART;TZID=Europe/Berlin:20260509T100000
DTEND;TZID=Europe/Berlin:20260509T130000
DTSTAMP:20260420T212555
CREATED:20260108T180917Z
LAST-MODIFIED:20260108T182553Z
UID:10009025-1778320800-1778331600@familienzentrum-wrangelkiez.de
SUMMARY:Frühstück für alleinerziehende Eltern und ihre Kinder
DESCRIPTION:Hier können sich getrennt- und allein-erziehende Eltern und ihre Kinder bei einem gemütlichen Frühstück kennenlernen\, sich austauschen und gemeinsam spielen oder im Bällebad toben.\nWir beginnen um 10:00 und beenden um 13:00 Uhr.\nFür das Frühstück erheben wir einen Unkostenbeitrag in Höhe von 4\,50€ pro Familie. Das erste Getränk (Kaffé\, Tee) ist im Preis enthalten\, zusätzliche Getränke müssen separat bezahlt werden. \nAus organisatorischen Gründen bitten wir Euch um eine vorherige Anmeldung bis Donnerstag\,\nan die Mail: jancke@gmx.de \nVielen Dank! \nWir freuen uns auf Euch. \nFolgetermine: immer am 2. Samstag des Monats
URL:https://familienzentrum-wrangelkiez.de/veranstaltung/fruehstueck-fuer-alleinerziehende-mit-ihren-kindern-2-2/2026-05-09/
CATEGORIES:Begegnung & Nachbarschaft,Beratung,Familie & Kinder
ATTACH;FMTTYPE=image/jpeg:https://familienzentrum-wrangelkiez.de/wp-content/uploads/2023/01/pb-brunch-788499_1920-624x417-1.jpg
END:VEVENT
END:VCALENDAR