BEGIN:VCALENDAR
VERSION:2.0
PRODID:-//Kiezanker 36 - ECPv6.15.20//NONSGML v1.0//EN
CALSCALE:GREGORIAN
METHOD:PUBLISH
X-ORIGINAL-URL:https://familienzentrum-wrangelkiez.de
X-WR-CALDESC:Veranstaltungen für Kiezanker 36
REFRESH-INTERVAL;VALUE=DURATION:PT1H
X-Robots-Tag:noindex
X-PUBLISHED-TTL:PT1H
BEGIN:VTIMEZONE
TZID:Europe/Berlin
BEGIN:DAYLIGHT
TZOFFSETFROM:+0100
TZOFFSETTO:+0200
TZNAME:CEST
DTSTART:20250330T010000
END:DAYLIGHT
BEGIN:STANDARD
TZOFFSETFROM:+0200
TZOFFSETTO:+0100
TZNAME:CET
DTSTART:20251026T010000
END:STANDARD
BEGIN:DAYLIGHT
TZOFFSETFROM:+0100
TZOFFSETTO:+0200
TZNAME:CEST
DTSTART:20260329T010000
END:DAYLIGHT
BEGIN:STANDARD
TZOFFSETFROM:+0200
TZOFFSETTO:+0100
TZNAME:CET
DTSTART:20261025T010000
END:STANDARD
BEGIN:DAYLIGHT
TZOFFSETFROM:+0100
TZOFFSETTO:+0200
TZNAME:CEST
DTSTART:20270328T010000
END:DAYLIGHT
BEGIN:STANDARD
TZOFFSETFROM:+0200
TZOFFSETTO:+0100
TZNAME:CET
DTSTART:20271031T010000
END:STANDARD
END:VTIMEZONE
BEGIN:VEVENT
DTSTART;TZID=Europe/Berlin:20260309T140000
DTEND;TZID=Europe/Berlin:20260309T180000
DTSTAMP:20260421T141924
CREATED:20260306T174858Z
LAST-MODIFIED:20260306T175843Z
UID:10053451-1773064800-1773079200@familienzentrum-wrangelkiez.de
SUMMARY:Frauen*Streiktag mit Vater-Kind-Tag im Kiezanker
DESCRIPTION:Im Rahmen der Frauen*Tage-Woche wird am Montag dem 09.03.2026 von 14:00 bis 18:00 Uhr im KiezAnker gestreikt.\nDie Männer aus und um das Team übernehmen den Cafédienst und die Frauen können machen\, wozu sie Lust und Laune haben. \nKommt vorbei. \nInfo: Der Zugang zum KiezAnker ist zurzeit nur über die Falckensteinstraße möglich.
URL:https://familienzentrum-wrangelkiez.de/veranstaltung/frauenstreiktag-im-kiezanker/
ATTACH;FMTTYPE=image/jpeg:https://familienzentrum-wrangelkiez.de/wp-content/uploads/2026/03/26-03-09_Streiktag.jpg
END:VEVENT
BEGIN:VEVENT
DTSTART;TZID=Europe/Berlin:20260309T150000
DTEND;TZID=Europe/Berlin:20260309T180000
DTSTAMP:20260421T141924
CREATED:20260205T132044Z
LAST-MODIFIED:20260205T132044Z
UID:10007587-1773068400-1773079200@familienzentrum-wrangelkiez.de
SUMMARY:ASUM Mieterberatung
DESCRIPTION:Im Auftrag des Bezirksamtes Friedrichshain-Kreuzberg bietet asum GmbH für Kreuzberger Mieter*innen eine kostenlose Mieterberatung an. \n– Fragen zum Kiez und den Kreuzberger „Sozialen Erhaltungsgebieten“\n– Bautätigkeiten\, über die sie nicht informiert wurden\n– Interesse an der Durchführung einer Mieterversammlung\n– Fragen zur Miete und zu den Förderbedingungen\, wenn ihr Haus mit öffentlichen Mitteln saniert wurde \nMontag\n15-18 Uhr: Vor-Ort Sprechstunde bei Mietrechtsanwalt (bitte Termin vereinbaren)\nRaum: Oppelner (im EG)\nTelefon:  030 – 29 34 31 0\noder per Mail an:  info (at) asum-berlin.de. \nDonnerstag\n16-18 Uhr: Vor-Ort Sprechstunde bei Mieterberater (ohne Terminvereinbarung)\nRaum: Skalitzer 1 (im 1. OG\, barrierefrei) \nFür mehr Infos:   https://www.asum-berlin.de/mieterberatung/
URL:https://familienzentrum-wrangelkiez.de/veranstaltung/mieterberatung-2-2021-10-14-2-2-2/2026-03-09/
LOCATION:Kiezanker 36\, Cuvrystr. 13/14\, Berlin\, 10997\, Deutschland
CATEGORIES:Beratung,Erwachsene
ATTACH;FMTTYPE=image/jpeg:https://familienzentrum-wrangelkiez.de/wp-content/uploads/2023/11/asum-berlin-logo.jpg
ORGANIZER;CN="ASUM":MAILTO:info@asum-berlin.de
GEO:52.49872;13.44403
X-APPLE-STRUCTURED-LOCATION;VALUE=URI;X-ADDRESS=Kiezanker 36 Cuvrystr. 13/14 Berlin 10997 Deutschland;X-APPLE-RADIUS=500;X-TITLE=Cuvrystr. 13/14:geo:13.44403,52.49872
END:VEVENT
BEGIN:VEVENT
DTSTART;TZID=Europe/Berlin:20260309T170000
DTEND;TZID=Europe/Berlin:20260309T200000
DTSTAMP:20260421T141924
CREATED:20250624T140349Z
LAST-MODIFIED:20250624T141950Z
UID:10052423-1773075600-1773086400@familienzentrum-wrangelkiez.de
SUMMARY:Gitarrenkurs
DESCRIPTION:Der Gitarrenunterricht findet an drei Nachmittagen statt.\nTeilnehmer lernen Liedbegleitung\, Schlag- und Zupftechniken zu Lieblingssongs.\nGitarren sind vorhanden und können gegen Kaution entliehen werden. \nMontags\, Mittwochs und Freitags ab 16:00 Uhr\nKursleitung: Markus Haußmann\nPreis nach Absprache\nAnmeldung unter 030 611 33 98\nRaum: Spreewaldplatz
URL:https://familienzentrum-wrangelkiez.de/veranstaltung/gitarrenkurs/2026-03-09/
LOCATION:Kiezanker 36\, Cuvrystr. 13/14\, Berlin\, 10997\, Deutschland
CATEGORIES:Bildung,Familie & Kinder,Kunst & Handwerk
ATTACH;FMTTYPE=image/jpeg:https://familienzentrum-wrangelkiez.de/wp-content/uploads/2017/01/Gitarrenunterricht.jpg
GEO:52.49872;13.44403
X-APPLE-STRUCTURED-LOCATION;VALUE=URI;X-ADDRESS=Kiezanker 36 Cuvrystr. 13/14 Berlin 10997 Deutschland;X-APPLE-RADIUS=500;X-TITLE=Cuvrystr. 13/14:geo:13.44403,52.49872
END:VEVENT
BEGIN:VEVENT
DTSTART;TZID=Europe/Berlin:20260309T183000
DTEND;TZID=Europe/Berlin:20260309T203000
DTSTAMP:20260421T141924
CREATED:20260305T170223Z
LAST-MODIFIED:20260305T171738Z
UID:10053148-1773081000-1773088200@familienzentrum-wrangelkiez.de
SUMMARY:Ausfall Refugee Law Clinic
DESCRIPTION:Die Rechtsberatung für Geflüchtete fällt heute leider aus. \nWeitere Termine im Web – Kalender: \nLink: https://www.rlc-berlin.org/beratung \nKostenlose und unabhängige Rechtsberatung für migrierende\, geflüchtete und asylsuchende Personen in Berlin.\nDie Refugee Law Clinic Berlin e.V. ist ein Verein an der Humboldt-Universität zu Berlin.\nRefugee Law Clinic Berlin e.V. \nZuvor bitte einen Termin per Mail vereinbaren\nunter:  beratungWRANGEL@rlc-berlin.org \nWeitere Informationen: https://www.rlc-berlin.org/beratung\n \n  \nEnglish\nUnfortunately\, legal advice for refugees is cancelled today. \nFurther dates in the web calendar:\nLink: https://www.rlc-berlin.org/beratung \nFree and independent legal advice for migrants\, refugees and asylum seekers in Berlin.\nRefugee Law Clinic Berlin e.V. is an association at Humboldt University in Berlin.\nRefugee Law Clinic Berlin e.V. \nPlease make an appointment in advance by email\nat: beratungWRANGEL@rlc-berlin.org \nFurther information: https://www.rlc-berlin.org/beratung
URL:https://familienzentrum-wrangelkiez.de/veranstaltung/ausfall-refugee-law-clinic/
ATTACH;FMTTYPE=image/webp:https://familienzentrum-wrangelkiez.de/wp-content/uploads/2024/03/RLC_Berlin_Logo.webp
END:VEVENT
END:VCALENDAR