BEGIN:VCALENDAR
VERSION:2.0
PRODID:-//Kiezanker 36 - ECPv6.15.20//NONSGML v1.0//EN
CALSCALE:GREGORIAN
METHOD:PUBLISH
X-ORIGINAL-URL:https://familienzentrum-wrangelkiez.de
X-WR-CALDESC:Veranstaltungen für Kiezanker 36
REFRESH-INTERVAL;VALUE=DURATION:PT1H
X-Robots-Tag:noindex
X-PUBLISHED-TTL:PT1H
BEGIN:VTIMEZONE
TZID:Europe/Berlin
BEGIN:DAYLIGHT
TZOFFSETFROM:+0100
TZOFFSETTO:+0200
TZNAME:CEST
DTSTART:20250330T010000
END:DAYLIGHT
BEGIN:STANDARD
TZOFFSETFROM:+0200
TZOFFSETTO:+0100
TZNAME:CET
DTSTART:20251026T010000
END:STANDARD
BEGIN:DAYLIGHT
TZOFFSETFROM:+0100
TZOFFSETTO:+0200
TZNAME:CEST
DTSTART:20260329T010000
END:DAYLIGHT
BEGIN:STANDARD
TZOFFSETFROM:+0200
TZOFFSETTO:+0100
TZNAME:CET
DTSTART:20261025T010000
END:STANDARD
BEGIN:DAYLIGHT
TZOFFSETFROM:+0100
TZOFFSETTO:+0200
TZNAME:CEST
DTSTART:20270328T010000
END:DAYLIGHT
BEGIN:STANDARD
TZOFFSETFROM:+0200
TZOFFSETTO:+0100
TZNAME:CET
DTSTART:20271031T010000
END:STANDARD
END:VTIMEZONE
BEGIN:VEVENT
DTSTART;TZID=Europe/Berlin:20260307T150000
DTEND;TZID=Europe/Berlin:20260307T180000
DTSTAMP:20260421T125724
CREATED:20260306T165025Z
LAST-MODIFIED:20260306T174257Z
UID:10053449-1772895600-1772906400@familienzentrum-wrangelkiez.de
SUMMARY:Feministischer Workshop mit dem Lauratibor-Kiezchor:  „Schlechte Mutter“
DESCRIPTION:Im Rahmen der Frauen*Tage-Woche wird am Samstag dem 07.03.2026 von 15:00 bis 18:00 Uhr\, der feministische Workshop „Schlechte Mutter“ mit dem Lauratibor-KiezChor stattfinden.\nIm Bällebad-Raum wird gesungen und sich bewegt. Der Workshop ist offen für Alle. \nKommt vorbei. \nInfo: Der Zugang zum KiezAnker ist zurzeit nur über die Falckensteinstraße möglich.
URL:https://familienzentrum-wrangelkiez.de/veranstaltung/feministischer-workshop-mit-dem-lauratibor-chor-schlechte-mutter/
ATTACH;FMTTYPE=image/jpeg:https://familienzentrum-wrangelkiez.de/wp-content/uploads/2026/03/26-03-07_LauratiborWorkshop_schlechteMutter.jpg
END:VEVENT
END:VCALENDAR