BEGIN:VCALENDAR
VERSION:2.0
PRODID:-//Kiezanker 36 - ECPv6.15.20//NONSGML v1.0//EN
CALSCALE:GREGORIAN
METHOD:PUBLISH
X-WR-CALNAME:Kiezanker 36
X-ORIGINAL-URL:https://familienzentrum-wrangelkiez.de
X-WR-CALDESC:Veranstaltungen für Kiezanker 36
REFRESH-INTERVAL;VALUE=DURATION:PT1H
X-Robots-Tag:noindex
X-PUBLISHED-TTL:PT1H
BEGIN:VTIMEZONE
TZID:Europe/Berlin
BEGIN:DAYLIGHT
TZOFFSETFROM:+0100
TZOFFSETTO:+0200
TZNAME:CEST
DTSTART:20240331T010000
END:DAYLIGHT
BEGIN:STANDARD
TZOFFSETFROM:+0200
TZOFFSETTO:+0100
TZNAME:CET
DTSTART:20241027T010000
END:STANDARD
BEGIN:DAYLIGHT
TZOFFSETFROM:+0100
TZOFFSETTO:+0200
TZNAME:CEST
DTSTART:20250330T010000
END:DAYLIGHT
BEGIN:STANDARD
TZOFFSETFROM:+0200
TZOFFSETTO:+0100
TZNAME:CET
DTSTART:20251026T010000
END:STANDARD
BEGIN:DAYLIGHT
TZOFFSETFROM:+0100
TZOFFSETTO:+0200
TZNAME:CEST
DTSTART:20260329T010000
END:DAYLIGHT
BEGIN:STANDARD
TZOFFSETFROM:+0200
TZOFFSETTO:+0100
TZNAME:CET
DTSTART:20261025T010000
END:STANDARD
END:VTIMEZONE
BEGIN:VEVENT
DTSTART;TZID=Europe/Berlin:20250915T150000
DTEND;TZID=Europe/Berlin:20250915T180000
DTSTAMP:20260421T224644
CREATED:20231102T202044Z
LAST-MODIFIED:20231102T202920Z
UID:10007562-1757948400-1757959200@familienzentrum-wrangelkiez.de
SUMMARY:ASUM Mieterberatung
DESCRIPTION:Im Auftrag des Bezirksamtes Friedrichshain-Kreuzberg bietet asum GmbH für Kreuzberger Mieter*innen eine kostenlose Mieterberatung an. \n– Fragen zum Kiez und den Kreuzberger „Sozialen Erhaltungsgebieten“\n– Bautätigkeiten\, über die sie nicht informiert wurden\n– Interesse an der Durchführung einer Mieterversammlung\n– Fragen zur Miete und zu den Förderbedingungen\, wenn ihr Haus mit öffentlichen Mitteln saniert wurde \nMontag\n15-18 Uhr: Vor-Ort Sprechstunde bei Mietrechtsanwalt (bitte Termin vereinbaren)\nRaum: Oppelner (im EG) \nDonnerstag\n16-18 Uhr: Vor-Ort Sprechstunde bei Mieterberater (ohne Terminvereinbarung)\nRaum: Skalitzer 1 (im 1. OG\, barrierefrei) \nTelefon:  030 – 29 34 31 0\noder per Mail an:  info (at) asum-berlin.de. \nFür mehr Infos:   https://www.asum-berlin.de/mieterberatung/
URL:https://familienzentrum-wrangelkiez.de/veranstaltung/mieterberatung-2-2021-10-14-2/2025-09-15/
LOCATION:Kiezanker 36\, Cuvrystr. 13/14\, Berlin\, 10997\, Deutschland
CATEGORIES:Beratung,Erwachsene
ATTACH;FMTTYPE=image/jpeg:https://familienzentrum-wrangelkiez.de/wp-content/uploads/2023/11/asum-berlin-logo.jpg
ORGANIZER;CN="ASUM":MAILTO:info@asum-berlin.de
GEO:52.49872;13.44403
X-APPLE-STRUCTURED-LOCATION;VALUE=URI;X-ADDRESS=Kiezanker 36 Cuvrystr. 13/14 Berlin 10997 Deutschland;X-APPLE-RADIUS=500;X-TITLE=Cuvrystr. 13/14:geo:13.44403,52.49872
END:VEVENT
BEGIN:VEVENT
DTSTART;TZID=Europe/Berlin:20250915T170000
DTEND;TZID=Europe/Berlin:20250915T200000
DTSTAMP:20260421T224644
CREATED:20250624T140349Z
LAST-MODIFIED:20250624T141950Z
UID:10052348-1757955600-1757966400@familienzentrum-wrangelkiez.de
SUMMARY:Gitarrenkurs
DESCRIPTION:Der Gitarrenunterricht findet an drei Nachmittagen statt.\nTeilnehmer lernen Liedbegleitung\, Schlag- und Zupftechniken zu Lieblingssongs.\nGitarren sind vorhanden und können gegen Kaution entliehen werden. \nMontags\, Mittwochs und Freitags ab 16:00 Uhr\nKursleitung: Markus Haußmann\nPreis nach Absprache\nAnmeldung unter 030 611 33 98\nRaum: Spreewaldplatz
URL:https://familienzentrum-wrangelkiez.de/veranstaltung/gitarrenkurs/2025-09-15/
LOCATION:Kiezanker 36\, Cuvrystr. 13/14\, Berlin\, 10997\, Deutschland
CATEGORIES:Bildung,Familie & Kinder,Kunst & Handwerk
ATTACH;FMTTYPE=image/jpeg:https://familienzentrum-wrangelkiez.de/wp-content/uploads/2017/01/Gitarrenunterricht.jpg
GEO:52.49872;13.44403
X-APPLE-STRUCTURED-LOCATION;VALUE=URI;X-ADDRESS=Kiezanker 36 Cuvrystr. 13/14 Berlin 10997 Deutschland;X-APPLE-RADIUS=500;X-TITLE=Cuvrystr. 13/14:geo:13.44403,52.49872
END:VEVENT
END:VCALENDAR