BEGIN:VCALENDAR
VERSION:2.0
PRODID:-//Kiezanker 36 - ECPv6.15.20//NONSGML v1.0//EN
CALSCALE:GREGORIAN
METHOD:PUBLISH
X-WR-CALNAME:Kiezanker 36
X-ORIGINAL-URL:https://familienzentrum-wrangelkiez.de
X-WR-CALDESC:Veranstaltungen für Kiezanker 36
REFRESH-INTERVAL;VALUE=DURATION:PT1H
X-Robots-Tag:noindex
X-PUBLISHED-TTL:PT1H
BEGIN:VTIMEZONE
TZID:Europe/Berlin
BEGIN:DAYLIGHT
TZOFFSETFROM:+0100
TZOFFSETTO:+0200
TZNAME:CEST
DTSTART:20240331T010000
END:DAYLIGHT
BEGIN:STANDARD
TZOFFSETFROM:+0200
TZOFFSETTO:+0100
TZNAME:CET
DTSTART:20241027T010000
END:STANDARD
BEGIN:DAYLIGHT
TZOFFSETFROM:+0100
TZOFFSETTO:+0200
TZNAME:CEST
DTSTART:20250330T010000
END:DAYLIGHT
BEGIN:STANDARD
TZOFFSETFROM:+0200
TZOFFSETTO:+0100
TZNAME:CET
DTSTART:20251026T010000
END:STANDARD
BEGIN:DAYLIGHT
TZOFFSETFROM:+0100
TZOFFSETTO:+0200
TZNAME:CEST
DTSTART:20260329T010000
END:DAYLIGHT
BEGIN:STANDARD
TZOFFSETFROM:+0200
TZOFFSETTO:+0100
TZNAME:CET
DTSTART:20261025T010000
END:STANDARD
END:VTIMEZONE
BEGIN:VEVENT
DTSTART;TZID=Europe/Berlin:20250821T100000
DTEND;TZID=Europe/Berlin:20250821T113000
DTSTAMP:20260422T044636
CREATED:20240710T123402Z
LAST-MODIFIED:20240911T165242Z
UID:10009545-1755770400-1755775800@familienzentrum-wrangelkiez.de
SUMMARY:Neuer Babymassage-Kurs ab Do.\, 12.09.2024
DESCRIPTION:Bei der Babymassage haben Eltern die Möglichkeit eine intensive Zeit mit ihrem Baby zu erleben und durch liebevolle Berührungen ihre Bindung zu stärken. \nSie erlernen Massagegriffe für jedes Körperteil inkl. Gesicht\, sowie die Kolikmassage bei unruhigem Bäuchlein. Babymassage fördert das Körperbewusstsein und nimmt positiven Einfluss auf die körperliche und geistige Entwicklung des Kindes. \nKursleitung: Gülsüm Aydin \nDonnerstags 10.00 Uhr \n5 Termine á 60 – 90 Minuten auf Spendenbasis\, vom 12.09. – 17.10.2024 (wegen des Feiertags am  03.10.2024\, verlängert sich der Kurs auf 6 Wochen). \nAnmeldung: guelsuem.aydin@pfh-berlin.de \nWir gehören der „internationalen Gesellschaft für Babymassage“ an. \nDie Termine für den nächsten Babymassage-Kurs sind vom 14.11.-12.12.2024\, immer donnerstags um 10:00 Uhr.
URL:https://familienzentrum-wrangelkiez.de/veranstaltung/neuer-babymassage-kurs-ab-do-12-09-2024-2/2025-08-21/
LOCATION:Kiezanker 36\, Cuvrystr. 13/14\, Berlin\, 10997\, Deutschland
ATTACH;FMTTYPE=image/jpeg:https://familienzentrum-wrangelkiez.de/wp-content/uploads/2022/10/1-624x443-1.jpg
GEO:52.49872;13.44403
X-APPLE-STRUCTURED-LOCATION;VALUE=URI;X-ADDRESS=Kiezanker 36 Cuvrystr. 13/14 Berlin 10997 Deutschland;X-APPLE-RADIUS=500;X-TITLE=Cuvrystr. 13/14:geo:13.44403,52.49872
END:VEVENT
BEGIN:VEVENT
DTSTART;TZID=Europe/Berlin:20250821T150000
DTEND;TZID=Europe/Berlin:20250821T160000
DTSTAMP:20260422T044636
CREATED:20250313T152012Z
LAST-MODIFIED:20250313T152012Z
UID:10010999-1755788400-1755792000@familienzentrum-wrangelkiez.de
SUMMARY:Zusammen aufwachsen
DESCRIPTION:Wir wollen gerne eine feste Gruppe für Kinder zwischen 6 Monaten und 1\,5 Jahren anbieten und gemeinsam Wege finden\, „Zusammen aufwachsen“ möglich zu machen\, ob in einer gestalteten Bewegungslandschaft oder im Wald\, Hauptsache nicht online.\nKinder sollen die Möglichkeit haben Kontakt zu anderen Kindern aufzunehmen und Eltern sollten die Möglichkeit haben andere Eltern kennenzulernen und sich auszutauschen. \nWann: Donnerstags von 15:00 – 16:00 Uhr  – !auf Spendenbasis! – \nAnmeldung unter 030/22502403 oder carolin.loewe@pfh-berlin.de \n 
URL:https://familienzentrum-wrangelkiez.de/veranstaltung/zusammen-aufwachsen/2025-08-21/
ATTACH;FMTTYPE=image/jpeg:https://familienzentrum-wrangelkiez.de/wp-content/uploads/2021/09/Zusammen-aufwachsen_1-1-scaled-e1632250550682.jpg
END:VEVENT
BEGIN:VEVENT
DTSTART;TZID=Europe/Berlin:20250821T160000
DTEND;TZID=Europe/Berlin:20250821T180000
DTSTAMP:20260422T044636
CREATED:20231102T203623Z
LAST-MODIFIED:20250417T132939Z
UID:10008080-1755792000-1755799200@familienzentrum-wrangelkiez.de
SUMMARY:ASUM Mieterberatung
DESCRIPTION:Im Auftrag des Bezirksamtes Friedrichshain-Kreuzberg bietet asum GmbH für Kreuzberger Mieter*innen eine kostenlose Mieterberatung an. \n– Fragen zum Kiez und den Kreuzberger „Sozialen Erhaltungsgebieten“\n– Bautätigkeiten\, über die sie nicht informiert wurden\n– Interesse an der Durchführung einer Mieterversammlung\n– Fragen zur Miete und zu den Förderbedingungen\, wenn ihr Haus mit öffentlichen Mitteln saniert wurde \nMontag\n15-18 Uhr: Vor-Ort Sprechstunde bei Mietrechtsanwalt (bitte Termin vereinbaren)\nRaum: Oppelner (im EG) \nDonnerstag\n16-18 Uhr: Vor-Ort Sprechstunde bei Mieterberater (ohne Terminvereinbarung)\nRaum: Skalitzer 1 (im 1. OG\, barrierefrei) \nTelefon:  030 – 29 34 31 0\noder per Mail an:  info (at) asum-berlin.de. \nFür mehr Infos:   https://www.asum-berlin.de/mieterberatung/
URL:https://familienzentrum-wrangelkiez.de/veranstaltung/asum-mieterberatung/2025-08-21/
LOCATION:Kiezanker 36\, Cuvrystr. 13/14\, Berlin\, 10997\, Deutschland
CATEGORIES:Beratung,Erwachsene
ATTACH;FMTTYPE=image/jpeg:https://familienzentrum-wrangelkiez.de/wp-content/uploads/2023/11/asum-berlin-logo.jpg
ORGANIZER;CN="ASUM":MAILTO:info@asum-berlin.de
GEO:52.49872;13.44403
X-APPLE-STRUCTURED-LOCATION;VALUE=URI;X-ADDRESS=Kiezanker 36 Cuvrystr. 13/14 Berlin 10997 Deutschland;X-APPLE-RADIUS=500;X-TITLE=Cuvrystr. 13/14:geo:13.44403,52.49872
END:VEVENT
END:VCALENDAR